Workbook

Sheet Summary
A1: Harbours Business Plan
A2: Revenue Cash Flow
A3: Three Year Summary
B7: Year 1 | C7: Year 2 | D7: Year 3
A9: INCOME:
A10: Milton
A11: Berth 1 | B11: =+'Year 1'!$Q12 -> 600 | C11: =+'Year 2'!$Q12 -> 333.33333 | D11: =+'Year 3'!$Q12 -> 1000
A12: Berth 2 | B12: =+'Year 1'!$Q13 -> 600 | C12: =+'Year 2'!$Q13 -> 333.33333 | D12: =+'Year 3'!$Q13 -> 1000
A13: Berth 3 | B13: =+'Year 1'!$Q14 -> 660 | C13: =+'Year 2'!$Q14 -> 366.66667 | D13: =+'Year 3'!$Q14 -> 1100
A14: Berth 4 | B14: =+'Year 1'!$Q15 -> 480 | C14: =+'Year 2'!$Q15 -> 266.66667 | D14: =+'Year 3'!$Q15 -> 800
A15: Berth 5 | B15: =+'Year 1'!$Q16 -> 420 | C15: =+'Year 2'!$Q16 -> 233.33333 | D15: =+'Year 3'!$Q16 -> 700
A16: Berth 6 | B16: =+'Year 1'!$Q17 -> 360 | C16: =+'Year 2'!$Q17 -> 200 | D16: =+'Year 3'!$Q17 -> 600
A17: Berth 7 | D17: =+'Year 3'!$Q18 -> 700
A18: Berth 8 | D18: =+'Year 3'!$Q19 -> 700
A20: Balance from MHA* Account | B20: =+'Year 1'!E21 -> 1000
A22: Scarinish
A23: Berth 1 | B23: =+'Year 1'!$Q24 -> 150 | C23: =+'Year 2'!$Q23 -> 150 | D23: =+'Year 3'!$Q23 -> 180
A24: Berth 2 | B24: =+'Year 1'!$Q25 -> 200 | C24: =+'Year 2'!$Q24 -> 200 | D24: =+'Year 3'!$Q24 -> 240
A26: Leisure moorings fees | B26: =+'Year 1'!$Q27 -> 0 | C26: =+'Year 2'!$Q26 -> 0 | D26: =+'Year 3'!$Q26 -> 1700
A28: Landing Fees
A29: 1.5% of Gross Landing | B29: =+'Year 1'!$Q30 -> 0 | C29: =+'Year 2'!$Q29 -> 0 | D29: =+'Year 3'!$Q29 -> 7016
A30: 1.5% of 20% of GL re new Berths 7&8 | D30: =+'Year 3'!$Q30 -> 1403.2
A31: Total income | B31: =SUM(B11:B30) -> 4470 | C31: =SUM(C11:C30) -> 2083.3333 | D31: =SUM(D11:D30) -> 17139.2
A33: EXPENDITURE:
A34: Milton &/or Scarinish)
A35: Staff Costs (M+S) | B35: =+'Year 1'!$Q36 -> 0 | C35: =+'Year 2'!$Q35 -> 0 | D35: =+'Year 3'!$Q35 -> 5000
A36: Electricity (Milton only) | B36: =+'Year 1'!$Q37 -> 350 | C36: =+'Year 2'!$Q36 -> 116.66667 | D36: =+'Year 3'!$Q36 -> 400
A37: Waste Uplift (Milton only) | B37: =+'Year 1'!$Q38 -> 270 | C37: =+'Year 2'!$Q37 -> 90 | D37: =+'Year 3'!$Q37 -> 270
A38: Water Charge (Milton only) | B38: =+'Year 1'!$Q39 -> 0 | C38: =+'Year 2'!$Q38 -> 166.66667 | D38: =+'Year 3'!$Q38 -> 500
A39: Maintenance & Repairs Fund (M+S) | B39: =+'Year 1'!$Q40 -> 0 | C39: =+'Year 2'!$Q39 -> 800 | D39: =+'Year 3'!$Q39 -> 2400
A40: Insurance (Public Liability Only) (M+S) | B40: =+'Year 1'!$Q41 -> 1700 | C40: =+'Year 2'!$Q40 -> 566.66667 | D40: =+'Year 3'!$Q40 -> 1800
A41: Buildings Insurance (Milton Harbour Shed) | B41: =+'Year 1'!$Q42 -> 0 | C41: =+'Year 2'!$Q41 -> 500 | D41: =+'Year 3'!$Q41 -> 1500
A42: Management/Office Support (M+S) | B42: =+'Year 1'!$Q43 -> 300 | C42: =+'Year 2'!$Q42 -> 100 | D42: =+'Year 3'!$Q42 -> 300
A43: Other/Misc (M+S) | B43: =+'Year 1'!$Q44 -> 600 | C43: =+'Year 2'!$Q43 -> 200 | D43: =+'Year 3'!$Q43 -> 600
A44: Prep/clearance work re new leisure moorings | B44: =+'Year 1'!$Q45 -> 0 | C44: =+'Year 2'!$Q44 -> 0 | D44: =+'Year 3'!$Q44 -> 0
A46: Total operating costs | B46: =SUM(B35:B45) -> 3220 | C46: =SUM(C35:C45) -> 2540 | D46: =SUM(D35:D45) -> 12770
A49: Opening balance | B49: 0 | C49: =+B51 -> 1250 | D49: =+C51 -> 793.33333
A50: Profit/(Loss) for year | B50: =+'Year 1'!$Q48 -> 1250 | C50: =+'Year 2'!$Q47 -> -456.66667 | D50: =+'Year 3'!$Q47 -> 4369.2
A51: Closing Balance | B51: =+B49+B50 -> 1250 | C51: =+C49+C50 -> 793.33333 | D51: =+D49+D50 -> 5162.5333

Sheet Year 1
A1: Harbours Business Plan
A2: Revenue Cash Flow | C2: Parameters | E2: Berthing Charges | H2: Milton | I2: Scarinish | K2: Date of Acquisition | M2: Year 1 Mth 1 | N2: 43191
E3: £ per year per metre | H3: 60 | I3: 25
A4: Year 1
E5: Cost allocation where appropriate | H5: 0.8 | I5: 0.2
E7: Year 1 | S7: Year 1
B8: Note | C8: Boat length in metres | D8: £ per year per metre | E8: Month 1 | F8: Month 2 | G8: Month 3 | H8: Month 4 | I8: Month 5 | J8: Month 6 | K8: Month 7 | L8: Month 8 | M8: Month 9 | N8: Month 10 | O8: Month 11 | P8: Month 12 | Q8: TOTAL | S8: Milton | T8: Scarinish | U8: Split totals
A10: INCOME:
A11: Milton
A12: Berth 1 | B12: =+$B$57 -> 3 | C12: 10 | D12: =+C12*$H$3 -> 600 | E12: =+$D12/12 -> 50 | F12: =+$D12/12 -> 50 | G12: =+$D12/12 -> 50 | H12: =+$D12/12 -> 50 | I12: =+$D12/12 -> 50 | J12: =+$D12/12 -> 50 | K12: =+$D12/12 -> 50 | L12: =+$D12/12 -> 50 | ... P12: =+$D12/12 -> 50 | Q12: =SUM(E12:P12) -> 600 | S12: =+Q12 -> 600 | U12: =SUM(S12:T12) -> 600
A13: Berth 2 | B13: =+$B$57 -> 3 | C13: 10 | D13: =+C13*$H$3 -> 600 | E13: =+$D13/12 -> 50 | F13: =+$D13/12 -> 50 | G13: =+$D13/12 -> 50 | H13: =+$D13/12 -> 50 | I13: =+$D13/12 -> 50 | J13: =+$D13/12 -> 50 | K13: =+$D13/12 -> 50 | L13: =+$D13/12 -> 50 | ... P13: =+$D13/12 -> 50 | Q13: =SUM(E13:P13) -> 600 | S13: =+Q13 -> 600 | U13: =SUM(S13:T13) -> 600
A14: Berth 3 | B14: =+$B$57 -> 3 | C14: 11 | D14: =+C14*$H$3 -> 660 | E14: =+$D14/12 -> 55 | F14: =+$D14/12 -> 55 | G14: =+$D14/12 -> 55 | H14: =+$D14/12 -> 55 | I14: =+$D14/12 -> 55 | J14: =+$D14/12 -> 55 | K14: =+$D14/12 -> 55 | L14: =+$D14/12 -> 55 | ... P14: =+$D14/12 -> 55 | Q14: =SUM(E14:P14) -> 660 | S14: =+Q14 -> 660 | U14: =SUM(S14:T14) -> 660
A15: Berth 4 | B15: =+$B$57 -> 3 | C15: 8 | D15: =+C15*$H$3 -> 480 | E15: =+$D15/12 -> 40 | F15: =+$D15/12 -> 40 | G15: =+$D15/12 -> 40 | H15: =+$D15/12 -> 40 | I15: =+$D15/12 -> 40 | J15: =+$D15/12 -> 40 | K15: =+$D15/12 -> 40 | L15: =+$D15/12 -> 40 | ... P15: =+$D15/12 -> 40 | Q15: =SUM(E15:P15) -> 480 | S15: =+Q15 -> 480 | U15: =SUM(S15:T15) -> 480
A16: Berth 5 | B16: =+$B$57 -> 3 | C16: 7 | D16: =+C16*$H$3 -> 420 | E16: =+$D16/12 -> 35 | F16: =+$D16/12 -> 35 | G16: =+$D16/12 -> 35 | H16: =+$D16/12 -> 35 | I16: =+$D16/12 -> 35 | J16: =+$D16/12 -> 35 | K16: =+$D16/12 -> 35 | L16: =+$D16/12 -> 35 | ... P16: =+$D16/12 -> 35 | Q16: =SUM(E16:P16) -> 420 | S16: =+Q16 -> 420 | U16: =SUM(S16:T16) -> 420
A17: Berth 6 | B17: =+$B$57 -> 3 | C17: 6 | D17: =+C17*$H$3 -> 360 | E17: =+$D17/12 -> 30 | F17: =+$D17/12 -> 30 | G17: =+$D17/12 -> 30 | H17: =+$D17/12 -> 30 | I17: =+$D17/12 -> 30 | J17: =+$D17/12 -> 30 | K17: =+$D17/12 -> 30 | L17: =+$D17/12 -> 30 | ... P17: =+$D17/12 -> 30 | Q17: =SUM(E17:P17) -> 360 | S17: =+Q17 -> 360 | U17: =SUM(S17:T17) -> 360
A18: Berth 7
A19: Berth 8
A20: Milton total meterage | C20: =SUM(C12:C19) -> 52
A21: Balance from MHA* Account | B21: 1,6 | E21: 1000 | Q21: =SUM(E21:P21) -> 1000 | S21: =+Q21 -> 1000 | U21: =SUM(S21:T21) -> 1000
A23: Scarinish
A24: Berth 1 | B24: =+$B$57 -> 3 | C24: 6 | D24: =+C24*$I$3 -> 150 | E24: =+$D24/12 -> 12.5 | F24: =+$D24/12 -> 12.5 | G24: =+$D24/12 -> 12.5 | H24: =+$D24/12 -> 12.5 | I24: =+$D24/12 -> 12.5 | J24: =+$D24/12 -> 12.5 | K24: =+$D24/12 -> 12.5 | L24: =+$D24/12 -> 12.5 | ... P24: =+$D24/12 -> 12.5 | Q24: =SUM(E24:P24) -> 150 | T24: =+Q24 -> 150 | U24: =SUM(S24:T24) -> 150
A25: Berth 2 | B25: =+$B$57 -> 3 | C25: 8 | D25: =+C25*$I$3 -> 200 | E25: =+$D25/12 -> 16.666667 | F25: =+$D25/12 -> 16.666667 | G25: =+$D25/12 -> 16.666667 | H25: =+$D25/12 -> 16.666667 | I25: =+$D25/12 -> 16.666667 | J25: =+$D25/12 -> 16.666667 | K25: =+$D25/12 -> 16.666667 | L25: =+$D25/12 -> 16.666667 | ... P25: =+$D25/12 -> 16.666667 | Q25: =SUM(E25:P25) -> 200 | T25: =+Q25 -> 200 | U25: =SUM(S25:T25) -> 200
A26: Scarinish total meterage | C26: =SUM(C24:C25) -> 14
A27: Leisure moorings fees (Scarinish only) | B27: =+$B$58 -> 4 | E27: 0 | F27: 0 | G27: 0 | H27: 0 | I27: 0 | J27: 0 | L27: 0 | M27: 0 | N27: 0 | O27: 0 | P27: 0 | Q27: =SUM(E27:P27) -> 0 | T27: =+Q27 -> 0 | U27: =SUM(S27:T27) -> 0
A29: Landing Fees
A30: 1.5% of Gross Landing | B30: 4a | E30: 0 | F30: 0 | G30: 0 | H30: 0 | I30: 0 | J30: 0 | K30: 0 | L30: 0 | M30: 0 | N30: 0 | O30: 0 | P30: 0 | Q30: =SUM(E30:P30) -> 0
A31: 1.5% of 20% of GL re new Berths 7&8 | B31: 4a | E31: 0 | F31: 0 | G31: 0 | H31: 0 | I31: 0 | J31: 0 | K31: 0 | L31: 0 | M31: 0 | N31: 0 | O31: 0 | P31: 0 | Q31: =SUM(E31:P31) -> 0
A32: Total income | E32: =SUM(E12:E31) -> 1289.1667 | F32: =SUM(F12:F31) -> 289.16667 | G32: =SUM(G12:G31) -> 289.16667 | H32: =SUM(H12:H31) -> 289.16667 | I32: =SUM(I12:I31) -> 289.16667 | J32: =SUM(J12:J31) -> 289.16667 | K32: =SUM(K12:K31) -> 289.16667 | L32: =SUM(L12:L31) -> 289.16667 | ... P32: =SUM(P12:P31) -> 289.16667 | Q32: =SUM(E32:P32) -> 4470 | S32: =SUM(S12:S30) -> 4120 | T32: =SUM(T12:T30) -> 350 | U32: =SUM(S32:T32) -> 4470
A34: EXPENDITURE:
A35: Milton &/or Scarinish) | B35: =+$B$60 -> 5 | D35: Per annum
A36: Staff Costs (M+S) | B36: =+$B$62 -> 7 | E36: 0 | F36: 0 | G36: 0 | H36: 0 | I36: 0 | J36: 0 | K36: 0 | L36: 0 | M36: 0 | N36: 0 | O36: 0 | P36: 0 | Q36: =SUM(E36:P36) -> 0 | S36: =+Q36*$H$5 -> 0 | T36: =+Q36*$I$5 -> 0 | U36: =SUM(S36:T36) -> 0
A37: Electricity (Milton only) | B37: 12 | D37: 350 | E37: =+$D37/12 -> 29.166667 | F37: =+$D37/12 -> 29.166667 | G37: =+$D37/12 -> 29.166667 | H37: =+$D37/12 -> 29.166667 | I37: =+$D37/12 -> 29.166667 | J37: =+$D37/12 -> 29.166667 | K37: =+$D37/12 -> 29.166667 | L37: =+$D37/12 -> 29.166667 | ... P37: =+$D37/12 -> 29.166667 | Q37: =SUM(E37:P37) -> 350 | S37: =+Q37 -> 350 | T37: 0 | U37: =SUM(S37:T37) -> 350
A38: Waste Uplift (Milton only) | B38: =+$B$63 -> 8 | D38: 270 | E38: =+$D38/12 -> 22.5 | F38: =+$D38/12 -> 22.5 | G38: =+$D38/12 -> 22.5 | H38: =+$D38/12 -> 22.5 | I38: =+$D38/12 -> 22.5 | J38: =+$D38/12 -> 22.5 | K38: =+$D38/12 -> 22.5 | L38: =+$D38/12 -> 22.5 | ... P38: =+$D38/12 -> 22.5 | Q38: =SUM(E38:P38) -> 270 | S38: =+Q38 -> 270 | T38: 0 | U38: =SUM(S38:T38) -> 270
A39: Water Charge (Milton only) | B39: =+$B$64 -> 9 | E39: =+$D39/12 -> 0 | F39: =+$D39/12 -> 0 | G39: =+$D39/12 -> 0 | H39: =+$D39/12 -> 0 | I39: =+$D39/12 -> 0 | J39: =+$D39/12 -> 0 | K39: =+$D39/12 -> 0 | L39: =+$D39/12 -> 0 | ... P39: =+$D39/12 -> 0 | Q39: =SUM(E39:P39) -> 0
A40: Maintenance & Repairs Fund (M+S) | B40: =+$B$65 -> 10 | E40: =+$D40/12 -> 0 | F40: =+$D40/12 -> 0 | G40: =+$D40/12 -> 0 | H40: =+$D40/12 -> 0 | I40: =+$D40/12 -> 0 | J40: =+$D40/12 -> 0 | K40: =+$D40/12 -> 0 | L40: =+$D40/12 -> 0 | ... P40: =+$D40/12 -> 0 | Q40: =SUM(E40:P40) -> 0
A41: Insurance (Public Liability Only) (M+S) | B41: 11 | D41: 1700 | E41: =+D41 -> 1700 | F41: 0 | G41: 0 | H41: 0 | I41: 0 | J41: 0 | K41: 0 | L41: 0 | M41: 0 | N41: 0 | O41: 0 | P41: 0 | Q41: =SUM(E41:P41) -> 1700 | S41: =+Q41*$H$5 -> 1360 | T41: =+Q41*$I$5 -> 340 | U41: =SUM(S41:T41) -> 1700
A42: Buildings Insurance (Milton Harbour Shed) | B42: 11a
A43: Management/Office Support (M+S) | D43: 300 | E43: =+$D43/12 -> 25 | F43: =+$D43/12 -> 25 | G43: =+$D43/12 -> 25 | H43: =+$D43/12 -> 25 | I43: =+$D43/12 -> 25 | J43: =+$D43/12 -> 25 | K43: =+$D43/12 -> 25 | L43: =+$D43/12 -> 25 | ... P43: =+$D43/12 -> 25 | Q43: =SUM(E43:P43) -> 300 | S43: =+Q43*$H$5 -> 240 | T43: =+Q43*$I$5 -> 60 | U43: =SUM(S43:T43) -> 300
A44: Other/Misc (M+S) | D44: 600 | E44: =+$D44/12 -> 50 | F44: =+$D44/12 -> 50 | G44: =+$D44/12 -> 50 | H44: =+$D44/12 -> 50 | I44: =+$D44/12 -> 50 | J44: =+$D44/12 -> 50 | K44: =+$D44/12 -> 50 | L44: =+$D44/12 -> 50 | ... P44: =+$D44/12 -> 50 | Q44: =SUM(E44:P44) -> 600 | S44: =+Q44*$H$5 -> 480 | T44: =+Q44*$I$5 -> 120 | U44: =SUM(S44:T44) -> 600
A45: Prep/clearance work re new leisure moorings | B45: 13
...

Sheet Year 2
A1: Harbours Business Plan
A2: Revenue Cash Flow | C2: Parameters | E2: Berthing Charges | H2: Milton | I2: Scarinish | K2: Date of Acquisition | M2: Year 1 Mth 1 | N2: 43191
E3: £ per year per metre | H3: 100 | I3: 30 | K3: Re-development start | M3: Year 2 Mth 1 | N3: 43556
A4: Year 2 | K4: Re-development finish | M4: Year 2 Mth 4 | N4: 43281 | P4: Scarinish
E5: Cost allocation where appropriate | H5: 0.8 | I5: 0.2 | K5: Re-development finish | M5: Year 2 Mth 6 | N5: 43434 | P5: Milton
E7: Year 2 | S7: Year 2
B8: Note | C8: Boat length in metres | D8: £ per year per metre | E8: Month 1 | F8: Month 2 | G8: Month 3 | H8: Month 4 | I8: Month 5 | J8: Month 6 | K8: Month 7 | L8: Month 8 | M8: Month 9 | N8: Month 10 | O8: Month 11 | P8: Month 12 | Q8: TOTAL | S8: Milton | T8: Scarinish | U8: Split totals
A10: INCOME:
A11: Milton
A12: Berth 1 | B12: 1,2 | C12: 10 | D12: =+C12*$H$3 -> 1000 | E12: 0 | F12: 0 | G12: 0 | H12: 0 | I12: 0 | J12: 0 | K12: 0 | L12: 0 | M12: =+$D12/12 -> 83.333333 | N12: =+$D12/12 -> 83.333333 | O12: =+$D12/12 -> 83.333333 | P12: =+$D12/12 -> 83.333333 | Q12: =SUM(E12:P12) -> 333.33333 | S12: =+Q12 -> 333.33333 | U12: =SUM(S12:T12) -> 333.33333
A13: Berth 2 | B13: 1,2 | C13: 10 | D13: =+C13*$H$3 -> 1000 | E13: 0 | F13: 0 | G13: 0 | H13: 0 | I13: 0 | J13: 0 | K13: 0 | L13: 0 | M13: =+$D13/12 -> 83.333333 | N13: =+$D13/12 -> 83.333333 | O13: =+$D13/12 -> 83.333333 | P13: =+$D13/12 -> 83.333333 | Q13: =SUM(E13:P13) -> 333.33333 | S13: =+Q13 -> 333.33333 | U13: =SUM(S13:T13) -> 333.33333
A14: Berth 3 | B14: 1,2 | C14: 11 | D14: =+C14*$H$3 -> 1100 | E14: 0 | F14: 0 | G14: 0 | H14: 0 | I14: 0 | J14: 0 | K14: 0 | L14: 0 | M14: =+$D14/12 -> 91.666667 | N14: =+$D14/12 -> 91.666667 | O14: =+$D14/12 -> 91.666667 | P14: =+$D14/12 -> 91.666667 | Q14: =SUM(E14:P14) -> 366.66667 | S14: =+Q14 -> 366.66667 | U14: =SUM(S14:T14) -> 366.66667
A15: Berth 4 | B15: 1,2 | C15: 8 | D15: =+C15*$H$3 -> 800 | E15: 0 | F15: 0 | G15: 0 | H15: 0 | I15: 0 | J15: 0 | K15: 0 | L15: 0 | M15: =+$D15/12 -> 66.666667 | N15: =+$D15/12 -> 66.666667 | O15: =+$D15/12 -> 66.666667 | P15: =+$D15/12 -> 66.666667 | Q15: =SUM(E15:P15) -> 266.66667 | S15: =+Q15 -> 266.66667 | U15: =SUM(S15:T15) -> 266.66667
A16: Berth 5 | B16: 1,2 | C16: 7 | D16: =+C16*$H$3 -> 700 | E16: 0 | F16: 0 | G16: 0 | H16: 0 | I16: 0 | J16: 0 | K16: 0 | L16: 0 | M16: =+$D16/12 -> 58.333333 | N16: =+$D16/12 -> 58.333333 | O16: =+$D16/12 -> 58.333333 | P16: =+$D16/12 -> 58.333333 | Q16: =SUM(E16:P16) -> 233.33333 | S16: =+Q16 -> 233.33333 | U16: =SUM(S16:T16) -> 233.33333
A17: Berth 6 | B17: 1,2 | C17: 6 | D17: =+C17*$H$3 -> 600 | E17: 0 | F17: 0 | G17: 0 | H17: 0 | I17: 0 | J17: 0 | K17: 0 | L17: 0 | M17: =+$D17/12 -> 50 | N17: =+$D17/12 -> 50 | O17: =+$D17/12 -> 50 | P17: =+$D17/12 -> 50 | Q17: =SUM(E17:P17) -> 200 | S17: =+Q17 -> 200 | U17: =SUM(S17:T17) -> 200
A18: Berth 7
A19: Berth 8
A20: Milton total meterage | C20: =SUM(C12:C19) -> 52
S21: =+Q21 -> 0 | U21: =SUM(S21:T21) -> 0
A22: Scarinish
A23: Berth 1 | B23: 1,2 | C23: 6 | D23: =+C23*$I$3 -> 180 | E23: 0 | F23: 0 | G23: =+$D23/12 -> 15 | H23: =+$D23/12 -> 15 | I23: =+$D23/12 -> 15 | J23: =+$D23/12 -> 15 | K23: =+$D23/12 -> 15 | L23: =+$D23/12 -> 15 | M23: =+$D23/12 -> 15 | N23: =+$D23/12 -> 15 | ... P23: =+$D23/12 -> 15 | Q23: =SUM(E23:P23) -> 150 | T23: =+Q23 -> 150 | U23: =SUM(S23:T23) -> 150
A24: Berth 2 | B24: 1,2 | C24: 8 | D24: =+C24*$I$3 -> 240 | E24: 0 | F24: 0 | G24: =+$D24/12 -> 20 | H24: =+$D24/12 -> 20 | I24: =+$D24/12 -> 20 | J24: =+$D24/12 -> 20 | K24: =+$D24/12 -> 20 | L24: =+$D24/12 -> 20 | M24: =+$D24/12 -> 20 | N24: =+$D24/12 -> 20 | ... P24: =+$D24/12 -> 20 | Q24: =SUM(E24:P24) -> 200 | T24: =+Q24 -> 200 | U24: =SUM(S24:T24) -> 200
A25: Scarinish total meterage | C25: =SUM(C23:C24) -> 14
A26: Leisure moorings fees | B26: 3 | E26: 0 | K26: 0 | L26: 0 | M26: 0 | N26: 0 | O26: 0 | P26: 0 | Q26: =SUM(E26:P26) -> 0
A28: Landing Fees
A29: 1.5% of Gross Landing | B29: 4 | E29: 0 | F29: 0 | G29: 0 | H29: 0 | I29: 0 | J29: 0 | K29: 0 | L29: 0 | M29: 0 | N29: 0 | O29: 0 | P29: 0 | Q29: =SUM(E29:P29) -> 0
A30: 1.5% of 20% of GL re new Berths 7&8 | B30: 4
A31: Total income | E31: =SUM(E12:E29) -> 0 | F31: =SUM(F12:F29) -> 0 | G31: =SUM(G12:G29) -> 35 | H31: =SUM(H12:H29) -> 35 | I31: =SUM(I12:I29) -> 35 | J31: =SUM(J12:J29) -> 35 | K31: =SUM(K12:K29) -> 35 | L31: =SUM(L12:L29) -> 35 | ... P31: =SUM(P12:P29) -> 468.33333 | Q31: =SUM(E31:P31) -> 2083.3333 | S31: =SUM(S12:S29) -> 1733.3333 | T31: =SUM(T12:T29) -> 350 | U31: =SUM(U12:U29) -> 2083.3333
A33: EXPENDITURE:
A34: Milton &/or Scarinish) | B34: 5 | D34: Per annum
A35: Staff Costs (M+S) | B35: 6 | E35: 0 | F35: 0 | G35: 0 | H35: 0 | I35: 0 | J35: 0 | K35: 0 | L35: 0 | M35: 0 | N35: 0 | O35: 0 | P35: 0 | Q35: =SUM(E35:P35) -> 0 | S35: =+Q35*$H$5 -> 0 | T35: =+Q35*$I$5 -> 0 | U35: =SUM(S35:T35) -> 0
A36: Electricity (Milton only) | B36: 13 | D36: 350 | E36: 0 | F36: 0 | G36: 0 | H36: 0 | I36: 0 | J36: 0 | K36: 0 | L36: 0 | M36: =+$D36/12 -> 29.166667 | N36: =+$D36/12 -> 29.166667 | O36: =+$D36/12 -> 29.166667 | P36: =+$D36/12 -> 29.166667 | Q36: =SUM(E36:P36) -> 116.66667 | S36: =+Q36 -> 116.66667 | T36: 0 | U36: =SUM(S36:T36) -> 116.66667
A37: Waste Uplift (Milton only) | B37: 7 | D37: 270 | E37: 0 | F37: 0 | G37: 0 | H37: 0 | I37: 0 | J37: 0 | K37: 0 | L37: 0 | M37: =+$D37/12 -> 22.5 | N37: =+$D37/12 -> 22.5 | O37: =+$D37/12 -> 22.5 | P37: =+$D37/12 -> 22.5 | Q37: =SUM(E37:P37) -> 90 | S37: =+Q37 -> 90 | T37: 0 | U37: =SUM(S37:T37) -> 90
A38: Water Charge (Milton only) | B38: 8 | D38: 500 | E38: 0 | F38: 0 | G38: 0 | H38: 0 | I38: 0 | J38: 0 | K38: 0 | L38: 0 | M38: =+$D38/12 -> 41.666667 | N38: =+$D38/12 -> 41.666667 | O38: =+$D38/12 -> 41.666667 | P38: =+$D38/12 -> 41.666667 | Q38: =SUM(E38:P38) -> 166.66667 | S38: =+Q38 -> 166.66667 | T38: 0 | U38: =SUM(S38:T38) -> 166.66667
A39: Maintenance & Repairs Fund (M+S) | B39: 9 | D39: 2400 | E39: 0 | F39: 0 | G39: 0 | H39: 0 | I39: 0 | J39: 0 | K39: 0 | L39: 0 | M39: =+$D39/12 -> 200 | N39: =+$D39/12 -> 200 | O39: =+$D39/12 -> 200 | P39: =+$D39/12 -> 200 | Q39: =SUM(E39:P39) -> 800 | S39: =+Q39*$H$5 -> 640 | T39: =+Q39*$I$5 -> 160 | U39: =SUM(S39:T39) -> 800
A40: Insurance (Public Liability Only) (M+S) | B40: 10 | D40: 1700 | E40: 0 | F40: 0 | G40: 0 | H40: 0 | I40: 0 | J40: 0 | K40: 0 | L40: 0 | M40: =+$D40/12*4 -> 566.66667 | N40: 0 | O40: 0 | P40: 0 | Q40: =SUM(E40:P40) -> 566.66667 | S40: =+Q40*$H$5 -> 453.33333 | T40: =+Q40*$I$5 -> 113.33333 | U40: =SUM(S40:T40) -> 566.66667
A41: Buildings Insurance (Milton Harbour Shed) | B41: 11 | D41: 1500 | E41: 0 | F41: 0 | G41: 0 | H41: 0 | I41: 0 | J41: 0 | K41: 0 | L41: 0 | M41: =+$D41/12*4 -> 500 | N41: 0 | O41: 0 | P41: 0 | Q41: =SUM(E41:P41) -> 500 | S41: =+Q41 -> 500 | T41: 0 | U41: =SUM(S41:T41) -> 500
A42: Management/Office Support (M+S) | B42: 12 | D42: 300 | E42: 0 | F42: 0 | G42: 0 | H42: 0 | I42: 0 | J42: 0 | K42: 0 | L42: 0 | M42: =+$D42/12 -> 25 | N42: =+$D42/12 -> 25 | O42: =+$D42/12 -> 25 | P42: =+$D42/12 -> 25 | Q42: =SUM(E42:P42) -> 100 | S42: =+Q42*$H$5 -> 80 | T42: =+Q42*$I$5 -> 20 | U42: =SUM(S42:T42) -> 100
A43: Other/Misc (M+S) | B43: 12 | D43: 600 | E43: 0 | F43: 0 | G43: 0 | H43: 0 | I43: 0 | J43: 0 | K43: 0 | L43: 0 | M43: =+$D43/12 -> 50 | N43: =+$D43/12 -> 50 | O43: =+$D43/12 -> 50 | P43: =+$D43/12 -> 50 | Q43: =SUM(E43:P43) -> 200 | S43: =+Q43*$H$5 -> 160 | T43: =+Q43*$I$5 -> 40 | U43: =SUM(S43:T43) -> 200
A44: Prep/clearance work re new leisure moorings | B44: 14
...

Sheet Year 3
A1: Harbours Business Plan
A2: Revenue Cash Flow | C2: Parameters | E2: Berthing Charges | H2: Milton | I2: Scarinish
E3: £ per year per metre | H3: 100 | I3: 30
A4: Year 3
E5: Cost allocation where appropriate | H5: 0.8 | I5: 0.2
E7: Year 3 | S7: Year 3
B8: Note | C8: Boat length in metres | D8: £ per year per metre | E8: Month 1 | F8: Month 2 | G8: Month 3 | H8: Month 4 | I8: Month 5 | J8: Month 6 | K8: Month 7 | L8: Month 8 | M8: Month 9 | N8: Month 10 | O8: Month 11 | P8: Month 12 | Q8: TOTAL | S8: Milton | T8: Scarinish | U8: Split totals
A10: INCOME:
A11: Milton
A12: Berth 1 | B12: 1,2 | C12: 10 | D12: =+C12*$H$3 -> 1000 | E12: =+$D12/12 -> 83.333333 | F12: =+$D12/12 -> 83.333333 | G12: =+$D12/12 -> 83.333333 | H12: =+$D12/12 -> 83.333333 | I12: =+$D12/12 -> 83.333333 | J12: =+$D12/12 -> 83.333333 | K12: =+$D12/12 -> 83.333333 | L12: =+$D12/12 -> 83.333333 | ... P12: =+$D12/12 -> 83.333333 | Q12: =SUM(E12:P12) -> 1000 | S12: =+Q12 -> 1000 | U12: =SUM(S12:T12) -> 1000
A13: Berth 2 | B13: 1,2 | C13: 10 | D13: =+C13*$H$3 -> 1000 | E13: =+$D13/12 -> 83.333333 | F13: =+$D13/12 -> 83.333333 | G13: =+$D13/12 -> 83.333333 | H13: =+$D13/12 -> 83.333333 | I13: =+$D13/12 -> 83.333333 | J13: =+$D13/12 -> 83.333333 | K13: =+$D13/12 -> 83.333333 | L13: =+$D13/12 -> 83.333333 | ... P13: =+$D13/12 -> 83.333333 | Q13: =SUM(E13:P13) -> 1000 | S13: =+Q13 -> 1000 | U13: =SUM(S13:T13) -> 1000
A14: Berth 3 | B14: 1,2 | C14: 11 | D14: =+C14*$H$3 -> 1100 | E14: =+$D14/12 -> 91.666667 | F14: =+$D14/12 -> 91.666667 | G14: =+$D14/12 -> 91.666667 | H14: =+$D14/12 -> 91.666667 | I14: =+$D14/12 -> 91.666667 | J14: =+$D14/12 -> 91.666667 | K14: =+$D14/12 -> 91.666667 | L14: =+$D14/12 -> 91.666667 | ... P14: =+$D14/12 -> 91.666667 | Q14: =SUM(E14:P14) -> 1100 | S14: =+Q14 -> 1100 | U14: =SUM(S14:T14) -> 1100
A15: Berth 4 | B15: 1,2 | C15: 8 | D15: =+C15*$H$3 -> 800 | E15: =+$D15/12 -> 66.666667 | F15: =+$D15/12 -> 66.666667 | G15: =+$D15/12 -> 66.666667 | H15: =+$D15/12 -> 66.666667 | I15: =+$D15/12 -> 66.666667 | J15: =+$D15/12 -> 66.666667 | K15: =+$D15/12 -> 66.666667 | L15: =+$D15/12 -> 66.666667 | ... P15: =+$D15/12 -> 66.666667 | Q15: =SUM(E15:P15) -> 800 | S15: =+Q15 -> 800 | U15: =SUM(S15:T15) -> 800
A16: Berth 5 | B16: 1,2 | C16: 7 | D16: =+C16*$H$3 -> 700 | E16: =+$D16/12 -> 58.333333 | F16: =+$D16/12 -> 58.333333 | G16: =+$D16/12 -> 58.333333 | H16: =+$D16/12 -> 58.333333 | I16: =+$D16/12 -> 58.333333 | J16: =+$D16/12 -> 58.333333 | K16: =+$D16/12 -> 58.333333 | L16: =+$D16/12 -> 58.333333 | ... P16: =+$D16/12 -> 58.333333 | Q16: =SUM(E16:P16) -> 700 | S16: =+Q16 -> 700 | U16: =SUM(S16:T16) -> 700
A17: Berth 6 | B17: 1,2 | C17: 6 | D17: =+C17*$H$3 -> 600 | E17: =+$D17/12 -> 50 | F17: =+$D17/12 -> 50 | G17: =+$D17/12 -> 50 | H17: =+$D17/12 -> 50 | I17: =+$D17/12 -> 50 | J17: =+$D17/12 -> 50 | K17: =+$D17/12 -> 50 | L17: =+$D17/12 -> 50 | ... P17: =+$D17/12 -> 50 | Q17: =SUM(E17:P17) -> 600 | S17: =+Q17 -> 600 | U17: =SUM(S17:T17) -> 600
A18: Berth 7 | B18: 3 | C18: 7 | D18: =+C18*$H$3 -> 700 | E18: =+$D18/12 -> 58.333333 | F18: =+$D18/12 -> 58.333333 | G18: =+$D18/12 -> 58.333333 | H18: =+$D18/12 -> 58.333333 | I18: =+$D18/12 -> 58.333333 | J18: =+$D18/12 -> 58.333333 | K18: =+$D18/12 -> 58.333333 | L18: =+$D18/12 -> 58.333333 | ... P18: =+$D18/12 -> 58.333333 | Q18: =SUM(E18:P18) -> 700 | S18: =+Q18 -> 700 | U18: =SUM(S18:T18) -> 700
A19: Berth 8 | B19: 3 | C19: 7 | D19: =+C19*$H$3 -> 700 | E19: =+$D19/12 -> 58.333333 | F19: =+$D19/12 -> 58.333333 | G19: =+$D19/12 -> 58.333333 | H19: =+$D19/12 -> 58.333333 | I19: =+$D19/12 -> 58.333333 | J19: =+$D19/12 -> 58.333333 | K19: =+$D19/12 -> 58.333333 | L19: =+$D19/12 -> 58.333333 | ... P19: =+$D19/12 -> 58.333333 | Q19: =SUM(E19:P19) -> 700 | S19: =+Q19 -> 700 | U19: =SUM(S19:T19) -> 700
A20: Milton total meterage | C20: =SUM(C12:C19) -> 66
A22: Scarinish
A23: Berth 1 | B23: 1,2 | C23: 6 | D23: =+C23*$I$3 -> 180 | E23: =+$D23/12 -> 15 | F23: =+$D23/12 -> 15 | G23: =+$D23/12 -> 15 | H23: =+$D23/12 -> 15 | I23: =+$D23/12 -> 15 | J23: =+$D23/12 -> 15 | K23: =+$D23/12 -> 15 | L23: =+$D23/12 -> 15 | ... P23: =+$D23/12 -> 15 | Q23: =SUM(E23:P23) -> 180 | T23: =+Q23 -> 180 | U23: =SUM(S23:T23) -> 180
A24: Berth 2 | B24: 1,2 | C24: 8 | D24: =+C24*$I$3 -> 240 | E24: =+$D24/12 -> 20 | F24: =+$D24/12 -> 20 | G24: =+$D24/12 -> 20 | H24: =+$D24/12 -> 20 | I24: =+$D24/12 -> 20 | J24: =+$D24/12 -> 20 | K24: =+$D24/12 -> 20 | L24: =+$D24/12 -> 20 | ... P24: =+$D24/12 -> 20 | Q24: =SUM(E24:P24) -> 240 | T24: =+Q24 -> 240 | U24: =SUM(S24:T24) -> 240
A25: Scarinish total meterage | C25: =SUM(C23:C24) -> 14
A26: Leisure moorings fees | B26: 4 | E26: 0 | F26: 100 | G26: 500 | H26: 500 | I26: 500 | J26: 100 | K26: 0 | L26: 0 | M26: 0 | N26: 0 | O26: 0 | P26: 0 | Q26: =SUM(E26:P26) -> 1700 | T26: =+Q26 -> 1700 | U26: =SUM(S26:T26) -> 1700
A28: Landing Fees
A29: 1.5% of Gross Landing | B29: 5 | D29: 7016 | E29: =+$D$29/12 -> 584.66667 | F29: =+$D$29/12 -> 584.66667 | G29: =+$D$29/12 -> 584.66667 | H29: =+$D$29/12 -> 584.66667 | I29: =+$D$29/12 -> 584.66667 | J29: =+$D$29/12 -> 584.66667 | K29: =+$D$29/12 -> 584.66667 | L29: =+$D$29/12 -> 584.66667 | ... P29: =+$D$29/12 -> 584.66667 | Q29: =SUM(E29:P29) -> 7016 | S29: =+Q29*0.8 -> 5612.8 | T29: =+Q29*0.2 -> 1403.2 | U29: =SUM(S29:T29) -> 7016
A30: 1.5% of 20% of GL re new Berths 7&8 | B30: 3a | D30: =+D29*0.2 -> 1403.2 | E30: =+$D$30/12 -> 116.93333 | F30: =+$D$30/12 -> 116.93333 | G30: =+$D$30/12 -> 116.93333 | H30: =+$D$30/12 -> 116.93333 | I30: =+$D$30/12 -> 116.93333 | J30: =+$D$30/12 -> 116.93333 | K30: =+$D$30/12 -> 116.93333 | L30: =+$D$30/12 -> 116.93333 | ... P30: =+$D$30/12 -> 116.93333 | Q30: =SUM(E30:P30) -> 1403.2 | S30: =+Q30 -> 1403.2 | U30: =SUM(S30:T30) -> 1403.2
A31: Total income | E31: =SUM(E12:E30) -> 1286.6 | F31: =SUM(F12:F30) -> 1386.6 | G31: =SUM(G12:G30) -> 1786.6 | H31: =SUM(H12:H30) -> 1786.6 | I31: =SUM(I12:I30) -> 1786.6 | J31: =SUM(J12:J30) -> 1386.6 | K31: =SUM(K12:K30) -> 1286.6 | L31: =SUM(L12:L30) -> 1286.6 | ... P31: =SUM(P12:P30) -> 1286.6 | Q31: =SUM(E31:P31) -> 17139.2 | S31: =SUM(S12:S30) -> 13616 | T31: =SUM(T12:T30) -> 3523.2 | U31: =SUM(U12:U30) -> 17139.2
A33: EXPENDITURE:
A34: Milton &/or Scarinish) | B34: 6 | D34: Per annum
A35: Staff Costs (M+S) | B35: 7 | D35: 5000 | E35: =+$D35/12 -> 416.66667 | F35: =+$D35/12 -> 416.66667 | G35: =+$D35/12 -> 416.66667 | H35: =+$D35/12 -> 416.66667 | I35: =+$D35/12 -> 416.66667 | J35: =+$D35/12 -> 416.66667 | K35: =+$D35/12 -> 416.66667 | L35: =+$D35/12 -> 416.66667 | ... P35: =+$D35/12 -> 416.66667 | Q35: =SUM(E35:P35) -> 5000 | S35: =+Q35*$H$5 -> 4000 | T35: =+Q35*$I$5 -> 1000 | U35: =SUM(S35:T35) -> 5000
A36: Electricity (Milton only) | B36: 11 | D36: 400 | E36: =+$D36/12 -> 33.333333 | F36: =+$D36/12 -> 33.333333 | G36: =+$D36/12 -> 33.333333 | H36: =+$D36/12 -> 33.333333 | I36: =+$D36/12 -> 33.333333 | J36: =+$D36/12 -> 33.333333 | K36: =+$D36/12 -> 33.333333 | L36: =+$D36/12 -> 33.333333 | ... P36: =+$D36/12 -> 33.333333 | Q36: =SUM(E36:P36) -> 400 | S36: =+Q36 -> 400 | T36: 0 | U36: =SUM(S36:T36) -> 400
A37: Waste Uplift (Milton only) | B37: 8 | D37: 270 | E37: =+$D37/12 -> 22.5 | F37: =+$D37/12 -> 22.5 | G37: =+$D37/12 -> 22.5 | H37: =+$D37/12 -> 22.5 | I37: =+$D37/12 -> 22.5 | J37: =+$D37/12 -> 22.5 | K37: =+$D37/12 -> 22.5 | L37: =+$D37/12 -> 22.5 | ... P37: =+$D37/12 -> 22.5 | Q37: =SUM(E37:P37) -> 270 | S37: =+Q37 -> 270 | T37: 0 | U37: =SUM(S37:T37) -> 270
A38: Water Charge (Milton only) | B38: 9 | D38: 500 | E38: =+$D38/12 -> 41.666667 | F38: =+$D38/12 -> 41.666667 | G38: =+$D38/12 -> 41.666667 | H38: =+$D38/12 -> 41.666667 | I38: =+$D38/12 -> 41.666667 | J38: =+$D38/12 -> 41.666667 | K38: =+$D38/12 -> 41.666667 | L38: =+$D38/12 -> 41.666667 | ... P38: =+$D38/12 -> 41.666667 | Q38: =SUM(E38:P38) -> 500 | S38: =+Q38 -> 500 | U38: =SUM(S38:T38) -> 500
A39: Maintenance & Repairs Fund (M+S) | B39: 10 | D39: 2400 | E39: =+$D39/12 -> 200 | F39: =+$D39/12 -> 200 | G39: =+$D39/12 -> 200 | H39: =+$D39/12 -> 200 | I39: =+$D39/12 -> 200 | J39: =+$D39/12 -> 200 | K39: =+$D39/12 -> 200 | L39: =+$D39/12 -> 200 | ... P39: =+$D39/12 -> 200 | Q39: =SUM(E39:P39) -> 2400 | S39: =+Q39*$H$5 -> 1920 | T39: =+Q39*$I$5 -> 480 | U39: =SUM(S39:T39) -> 2400
A40: Insurance (Public Liability Only) (M+S) | D40: 1800 | E40: =+D40 -> 1800 | F40: 0 | G40: 0 | H40: 0 | I40: 0 | J40: 0 | K40: 0 | L40: 0 | M40: 0 | N40: 0 | O40: 0 | P40: 0 | Q40: =SUM(E40:P40) -> 1800 | S40: =+Q40*$H$5 -> 1440 | T40: =+Q40*$I$5 -> 360 | U40: =SUM(S40:T40) -> 1800
A41: Buildings Insurance (Milton Harbour Shed) | D41: 1500 | E41: =+D41 -> 1500 | F41: 0 | G41: 0 | H41: 0 | I41: 0 | J41: 0 | K41: 0 | L41: 0 | M41: 0 | N41: 0 | O41: 0 | P41: 0 | Q41: =SUM(E41:P41) -> 1500 | S41: =+Q41 -> 1500 | U41: =SUM(S41:T41) -> 1500
A42: Management/Office Support (M+S) | D42: 300 | E42: =+$D42/12 -> 25 | F42: =+$D42/12 -> 25 | G42: =+$D42/12 -> 25 | H42: =+$D42/12 -> 25 | I42: =+$D42/12 -> 25 | J42: =+$D42/12 -> 25 | K42: =+$D42/12 -> 25 | L42: =+$D42/12 -> 25 | ... P42: =+$D42/12 -> 25 | Q42: =SUM(E42:P42) -> 300 | S42: =+Q42*$H$5 -> 240 | T42: =+Q42*$I$5 -> 60 | U42: =SUM(S42:T42) -> 300
A43: Other/Misc (M+S) | D43: 600 | E43: =+$D43/12 -> 50 | F43: =+$D43/12 -> 50 | G43: =+$D43/12 -> 50 | H43: =+$D43/12 -> 50 | I43: =+$D43/12 -> 50 | J43: =+$D43/12 -> 50 | K43: =+$D43/12 -> 50 | L43: =+$D43/12 -> 50 | ... P43: =+$D43/12 -> 50 | Q43: =SUM(E43:P43) -> 600 | S43: =+Q43*$H$5 -> 480 | T43: =+Q43*$I$5 -> 120 | U43: =SUM(S43:T43) -> 600
E45: 0 | F45: 0 | G45: 0 | H45: 0 | I45: 0 | J45: 0 | K45: 0 | L45: 0 | M45: 0 | N45: 0 | O45: 0 | P45: 0 | Q45: =SUM(E45:P45) -> 0 | S45: =+Q45 -> 0 | U45: =SUM(S45:T45) -> 0
A46: Total operating costs | E46: =SUM(E35:E43) -> 4089.1667 | F46: =SUM(F35:F43) -> 789.16667 | G46: =SUM(G35:G43) -> 789.16667 | H46: =SUM(H35:H43) -> 789.16667 | I46: =SUM(I35:I43) -> 789.16667 | J46: =SUM(J35:J43) -> 789.16667 | K46: =SUM(K35:K43) -> 789.16667 | L46: =SUM(L35:L43) -> 789.16667 | ... P46: =SUM(P35:P43) -> 789.16667 | Q46: =SUM(Q35:Q45) -> 12770 | S46: =SUM(S35:S45) -> 10750 | T46: =SUM(T35:T45) -> 2020 | U46: =SUM(S46:T46) -> 12770
...

Sheet Pre Dev Expenditure
A1: Harbours Pre Development Costs
A3: These costs have been covered exclusively by TCDT from community funds with the exeption of the project officer which was 20% funded by HIE and £840 of the study visit which was also covered by HIE.
A4: 2015 - Aug 2017
A5: Item | B5: Details | C5: Cost
A6: Wallace Stone Marine Engineers | B6: Full structural surveys of Milton and Scarinish harbours including full cost analysis for repairs and improvements | C6: =(5376+7152) -> 12528
A7: Roots Architecture | B7: Preperation and submission of planning application and topographical survey | C7: 8184
A8: Study Visit | B8: Steering Group visit to South Uist and Barra | C8: 1532
A9: Staff Costs | B9: Project officer to develop steering group, consult community, liaise with stakeholders, and develop project plans (50% of time over 2 year period) | C9: 24000
C10: =SUM(C6:C9) -> 46244
A11: Sep 2017 >
A12: Marine Scotland Construction Licence | B12: Licence application fee | C12: 2225
A13: Professional Fees | B13: Budget for Legal, Conveyencing & Accounting fees | C13: 10000
A14: Staff Costs | B14: Budget for Staff costs | C14: 5000
A15: Contingency | B15: Misc. | C15: 3000
C16: =SUM(C12:C15) -> 20225
B18: Grand Total | C18: =C10+C16 -> 66469
