Workbook

Sheet Estimate for Year 1
A1: HYNISH CENTRE
A2: CASHFLOW | D2: Assumption: Acquistion wef 1 May 2018
A3: Year 1
D5: Month 1 | E5: Month 2 | F5: Month 3 | G5: Month 4 | H5: Month 5 | I5: Month 6 | J5: Month 7 | K5: Month 8 | L5: Month 9 | M5: Month 10 | N5: Month 11 | O5: Month 12 | P5: Total
A7: INCOME:
A8: Grants Receivable | B8: For Business Dev role | D8: =28000/12 -> 2333.3333 | E8: =28000/12 -> 2333.3333 | F8: =28000/12 -> 2333.3333 | G8: =28000/12 -> 2333.3333 | H8: =28000/12 -> 2333.3333 | I8: =28000/12 -> 2333.3333 | J8: =28000/12 -> 2333.3333 | K8: =28000/12 -> 2333.3333 | ... O8: =28000/12 -> 2333.3333 | P8: =SUM(D8:O8) -> 28000
A9: Donations | D9: 0 | E9: 0 | F9: 0 | G9: 0 | H9: 0 | I9: 0 | J9: 0 | K9: 0 | L9: 0 | M9: 0 | N9: 0 | O9: 0 | P9: =SUM(D9:O9) -> 0
A10: Interest receivable | D10: 0 | E10: 0 | F10: 0 | G10: 0 | H10: 0 | I10: 0 | J10: 0 | K10: 0 | L10: 0 | M10: 0 | N10: 0 | O10: 0 | P10: =SUM(D10:O10) -> 0
A11: Rental Income: Upper Square | B11: Assume full occupancy | D11: ='Accommodation income ex Low Sq'!$C$11 -> 1359 | E11: ='Accommodation income ex Low Sq'!$C$11 -> 1359 | F11: ='Accommodation income ex Low Sq'!$C$11 -> 1359 | G11: ='Accommodation income ex Low Sq'!$C$11 -> 1359 | H11: ='Accommodation income ex Low Sq'!$C$11 -> 1359 | I11: ='Accommodation income ex Low Sq'!$C$11 -> 1359 | J11: ='Accommodation income ex Low Sq'!$C$11 -> 1359 | K11: ='Accommodation income ex Low Sq'!$C$11 -> 1359 | ... O11: ='Accommodation income ex Low Sq'!$C$11 -> 1359 | P11: =SUM(D11:O11) -> 16308
A12: Rental Income: Lower Square | B12: Once renovated | D12: 0 | E12: 0 | F12: 0 | G12: 0 | H12: 0 | I12: 0 | J12: 0 | K12: 0 | L12: 0 | M12: 0 | N12: 0 | O12: 0 | P12: =SUM(D12:O12) -> 0
A13: Holiday Lets: | D13: 0 | E13: 0 | F13: 0 | G13: 0 | H13: 0 | I13: 0 | J13: 0 | K13: 0 | L13: 0 | M13: 0 | N13: 0 | O13: 0 | P13: =SUM(D13:O13) -> 0
A14: The Cottage | D14: ='Accommodation income ex Low Sq'!$C$16*4.33 -> 977 | E14: ='Accommodation income ex Low Sq'!$C$16*4.33 -> 977 | F14: ='Accommodation income ex Low Sq'!$C$16*4.33 -> 977 | G14: ='Accommodation income ex Low Sq'!$C$16*4.33 -> 977 | H14: ='Accommodation income ex Low Sq'!$C$16*4.33 -> 977 | I14: ='Accommodation income ex Low Sq'!$C$16*4.33 -> 977 | J14: 0 | K14: 0 | L14: 0 | M14: 0 | N14: ='Accommodation income ex Low Sq'!$C$16*4.33 -> 977 | O14: ='Accommodation income ex Low Sq'!$C$16*4.33 -> 977 | P14: =SUM(D14:O14) -> 7816
A15: Morton Boyd House | D15: ='Accommodation income ex Low Sq'!$C$17*4.33 -> 1082.5 | E15: ='Accommodation income ex Low Sq'!$C$17*4.33 -> 1082.5 | F15: ='Accommodation income ex Low Sq'!$C$17*4.33 -> 1082.5 | G15: ='Accommodation income ex Low Sq'!$C$17*4.33 -> 1082.5 | H15: ='Accommodation income ex Low Sq'!$C$17*4.33 -> 1082.5 | I15: ='Accommodation income ex Low Sq'!$C$17*4.33 -> 1082.5 | J15: 0 | K15: 0 | L15: 0 | M15: 0 | N15: ='Accommodation income ex Low Sq'!$C$17*4.33 -> 1082.5 | O15: ='Accommodation income ex Low Sq'!$C$17*4.33 -> 1082.5 | P15: =SUM(D15:O15) -> 8660
A16: Alan Stevenson House | D16: ='Accommodation income ex Low Sq'!$C$18*4.33 -> 5848 | E16: ='Accommodation income ex Low Sq'!$C$18*4.33 -> 5848 | F16: ='Accommodation income ex Low Sq'!$C$18*4.33 -> 5848 | G16: ='Accommodation income ex Low Sq'!$C$18*4.33 -> 5848 | H16: ='Accommodation income ex Low Sq'!$C$18*4.33 -> 5848 | I16: ='Accommodation income ex Low Sq'!$C$18*4.33 -> 5848 | J16: 0 | K16: 0 | L16: 0 | M16: 0 | N16: ='Accommodation income ex Low Sq'!$C$18*4.33 -> 5848 | O16: ='Accommodation income ex Low Sq'!$C$18*4.33 -> 5848 | P16: =SUM(D16:O16) -> 46784
A17: Café, Events, Hire | D17: 2000 | E17: 2000 | F17: 2000 | G17: 2000 | H17: 2000 | I17: 2000 | J17: 2000 | K17: 2000 | L17: 2000 | M17: 2000 | N17: 2000 | O17: 2000 | P17: =SUM(D17:O17) -> 24000
D18: 0 | E18: 0 | F18: 0 | G18: 0 | H18: 0 | I18: 0 | J18: 0 | K18: 0 | L18: 0 | M18: 0 | N18: 0 | O18: 0 | P18: =SUM(D18:O18) -> 0
D19: 0 | E19: 0 | F19: 0 | G19: 0 | H19: 0 | I19: 0 | J19: 0 | K19: 0 | L19: 0 | M19: 0 | N19: 0 | O19: 0 | P19: =SUM(D19:O19) -> 0
D20: =SUM(D8:D19) -> 13599.833 | E20: =SUM(E8:E19) -> 13599.833 | F20: =SUM(F8:F19) -> 13599.833 | G20: =SUM(G8:G19) -> 13599.833 | H20: =SUM(H8:H19) -> 13599.833 | I20: =SUM(I8:I19) -> 13599.833 | J20: =SUM(J8:J19) -> 5692.3333 | K20: =SUM(K8:K19) -> 5692.3333 | ... P20: =SUM(P8:P19) -> 131568
A22: DIRECT COSTS:
A23: Staff Costs: permanent staff | D23: =-'Staff costs'!$G$8/12 -> -4025 | E23: =-'Staff costs'!$G$8/12 -> -4025 | F23: =-'Staff costs'!$G$8/12 -> -4025 | G23: =-'Staff costs'!$G$8/12 -> -4025 | H23: =-'Staff costs'!$G$8/12 -> -4025 | I23: =-'Staff costs'!$G$8/12 -> -4025 | J23: =-'Staff costs'!$G$8/12 -> -4025 | K23: =-'Staff costs'!$G$8/12 -> -4025 | ... O23: =-'Staff costs'!$G$8/12 -> -4025 | P23: =SUM(D23:O23) -> -48300
A24: Staff Costs: seasonal | D24: =-'Staff costs'!$G$10/12 -> -625 | E24: =-'Staff costs'!$G$10/12 -> -625 | F24: =-'Staff costs'!$G$10/12 -> -625 | G24: =-'Staff costs'!$G$10/12 -> -625 | H24: =-'Staff costs'!$G$10/12 -> -625 | I24: =-'Staff costs'!$G$10/12 -> -625 | J24: =-'Staff costs'!$G$10/12 -> -625 | K24: =-'Staff costs'!$G$10/12 -> -625 | ... O24: =-'Staff costs'!$G$10/12 -> -625 | P24: =SUM(D24:O24) -> -7500
A25: Staff Costs: Business Development role | D25: =-28000/12 -> -2333.3333 | E25: =-28000/12 -> -2333.3333 | F25: =-28000/12 -> -2333.3333 | G25: =-28000/12 -> -2333.3333 | H25: =-28000/12 -> -2333.3333 | I25: =-28000/12 -> -2333.3333 | J25: =-28000/12 -> -2333.3333 | K25: =-28000/12 -> -2333.3333 | ... O25: =-28000/12 -> -2333.3333 | P25: =SUM(D25:O25) -> -28000
A26: Utilities and Services | B26: £1k per month estimate | D26: =-1000 -> -1000 | E26: =-1000 -> -1000 | F26: =-1000 -> -1000 | G26: =-1000 -> -1000 | H26: =-1000 -> -1000 | I26: =-1000 -> -1000 | J26: =-1000 -> -1000 | K26: =-1000 -> -1000 | ... O26: =-1000 -> -1000 | P26: =SUM(D26:O26) -> -12000
A27: Catering provisions | B27: £12k pa estimate | C27: 12000 | D27: =-$C$27/12 -> -1000 | E27: =-$C$27/12 -> -1000 | F27: =-$C$27/12 -> -1000 | G27: =-$C$27/12 -> -1000 | H27: =-$C$27/12 -> -1000 | I27: =-$C$27/12 -> -1000 | J27: =-$C$27/12 -> -1000 | K27: =-$C$27/12 -> -1000 | ... O27: =-$C$27/12 -> -1000 | P27: =SUM(D27:O27) -> -12000
A28: Council Tax | B28: Unoccupied lower square | C28: 11000 | D28: =-$C$28/12 -> -916.66667 | E28: =-$C$28/12 -> -916.66667 | F28: =-$C$28/12 -> -916.66667 | G28: =-$C$28/12 -> -916.66667 | H28: =-$C$28/12 -> -916.66667 | I28: =-$C$28/12 -> -916.66667 | J28: =-$C$28/12 -> -916.66667 | K28: =-$C$28/12 -> -916.66667 | ... O28: =-$C$28/12 -> -916.66667 | P28: =SUM(D28:O28) -> -11000
A29: Maintenance & Repairs | B29: £250 pw estimate | C29: =250*52 -> 13000 | D29: =-$C$29/12 -> -1083.3333 | E29: =-$C$29/12 -> -1083.3333 | F29: =-$C$29/12 -> -1083.3333 | G29: =-$C$29/12 -> -1083.3333 | H29: =-$C$29/12 -> -1083.3333 | I29: =-$C$29/12 -> -1083.3333 | J29: =-$C$29/12 -> -1083.3333 | K29: =-$C$29/12 -> -1083.3333 | ... O29: =-$C$29/12 -> -1083.3333 | P29: =SUM(D29:O29) -> -13000
D30: 0 | E30: 0 | F30: 0 | G30: 0 | H30: 0 | I30: 0 | J30: 0 | K30: 0 | L30: 0 | M30: 0 | N30: 0 | O30: 0 | P30: =SUM(D30:O30) -> 0
D31: 0 | E31: 0 | F31: 0 | G31: 0 | H31: 0 | I31: 0 | J31: 0 | K31: 0 | L31: 0 | M31: 0 | N31: 0 | O31: 0 | P31: =SUM(D31:O31) -> 0
D32: =SUM(D23:D31) -> -10983.333 | E32: =SUM(E23:E31) -> -10983.333 | F32: =SUM(F23:F31) -> -10983.333 | G32: =SUM(G23:G31) -> -10983.333 | H32: =SUM(H23:H31) -> -10983.333 | I32: =SUM(I23:I31) -> -10983.333 | J32: =SUM(J23:J31) -> -10983.333 | K32: =SUM(K23:K31) -> -10983.333 | ... P32: =SUM(P23:P31) -> -131800
A34: SUPPORT COSTS:
A35: Insurance | D35: 0 | E35: 0 | F35: 0 | G35: 0 | H35: 0 | I35: -10500 | J35: 0 | K35: 0 | L35: 0 | M35: 0 | N35: 0 | O35: 0 | P35: =SUM(D35:O35) -> -10500
A36: TCDT management | C36: 5000 | D36: =-$C$36/12 -> -416.66667 | E36: =-$C$36/12 -> -416.66667 | F36: =-$C$36/12 -> -416.66667 | G36: =-$C$36/12 -> -416.66667 | H36: =-$C$36/12 -> -416.66667 | I36: =-$C$36/12 -> -416.66667 | J36: =-$C$36/12 -> -416.66667 | K36: =-$C$36/12 -> -416.66667 | ... O36: =-$C$36/12 -> -416.66667 | P36: =SUM(D36:O36) -> -5000
D37: 0 | E37: 0 | F37: 0 | G37: 0 | H37: 0 | I37: 0 | J37: 0 | K37: 0 | L37: 0 | M37: 0 | N37: 0 | O37: 0 | P37: =SUM(D37:O37) -> 0
D38: 0 | E38: 0 | F38: 0 | G38: 0 | H38: 0 | I38: 0 | J38: 0 | K38: 0 | L38: 0 | M38: 0 | N38: 0 | O38: 0 | P38: =SUM(D38:O38) -> 0
D39: =SUM(D35:D38) -> -416.66667 | E39: =SUM(E35:E38) -> -416.66667 | F39: =SUM(F35:F38) -> -416.66667 | G39: =SUM(G35:G38) -> -416.66667 | H39: =SUM(H35:H38) -> -416.66667 | I39: =SUM(I35:I38) -> -10916.667 | J39: =SUM(J35:J38) -> -416.66667 | K39: =SUM(K35:K38) -> -416.66667 | ... P39: =SUM(P35:P38) -> -15500
A41: MANAGEMENT & ADMINISTRATION:
A42: Legal and professional | B42: Estimate £100 pm | C42: =100*12 -> 1200 | D42: =-$C$42/12 -> -100 | E42: =-$C$42/12 -> -100 | F42: =-$C$42/12 -> -100 | G42: =-$C$42/12 -> -100 | H42: =-$C$42/12 -> -100 | I42: =-$C$42/12 -> -100 | J42: =-$C$42/12 -> -100 | K42: =-$C$42/12 -> -100 | ... O42: =-$C$42/12 -> -100 | P42: =SUM(D42:O42) -> -1200
A43: Audit and accountancy | C43: 4000 | D43: 0 | E43: 0 | F43: 0 | G43: 0 | H43: 0 | I43: 0 | J43: 0 | K43: 0 | L43: 0 | M43: 0 | N43: =-C43 -> -4000 | O43: 0 | P43: =SUM(D43:O43) -> -4000
D44: 0 | E44: 0 | F44: 0 | G44: 0 | H44: 0 | I44: 0 | J44: 0 | K44: 0 | L44: 0 | M44: 0 | N44: 0 | O44: 0 | P44: =SUM(D44:O44) -> 0
D45: =SUM(D42:D44) -> -100 | E45: =SUM(E42:E44) -> -100 | F45: =SUM(F42:F44) -> -100 | G45: =SUM(G42:G44) -> -100 | H45: =SUM(H42:H44) -> -100 | I45: =SUM(I42:I44) -> -100 | J45: =SUM(J42:J44) -> -100 | K45: =SUM(K42:K44) -> -100 | ... P45: =SUM(P42:P44) -> -5200
...

Sheet Estimate for Year 2
A1: HYNISH CENTRE
A2: CASHFLOW | D2: Assumption: Acquistion wef 1 May 2018
A3: Year 2
D5: Month 1 | E5: Month 2 | F5: Month 3 | G5: Month 4 | H5: Month 5 | I5: Month 6 | J5: Month 7 | K5: Month 8 | L5: Month 9 | M5: Month 10 | N5: Month 11 | O5: Month 12 | P5: Total
A7: INCOME:
A8: Grants Receivable | B8: For Business Dev role | D8: =28000/12 -> 2333.3333 | E8: =28000/12 -> 2333.3333 | F8: =28000/12 -> 2333.3333 | G8: =28000/12 -> 2333.3333 | H8: =28000/12 -> 2333.3333 | I8: =28000/12 -> 2333.3333 | J8: =28000/12 -> 2333.3333 | K8: =28000/12 -> 2333.3333 | ... O8: =28000/12 -> 2333.3333 | P8: =SUM(D8:O8) -> 28000
A9: Donations | D9: 0 | E9: 0 | F9: 0 | G9: 0 | H9: 0 | I9: 0 | J9: 0 | K9: 0 | L9: 0 | M9: 0 | N9: 0 | O9: 0 | P9: =SUM(D9:O9) -> 0
A10: Interest receivable | D10: 0 | E10: 0 | F10: 0 | G10: 0 | H10: 0 | I10: 0 | J10: 0 | K10: 0 | L10: 0 | M10: 0 | N10: 0 | O10: 0 | P10: =SUM(D10:O10) -> 0
A11: Rental Income: Upper Square | B11: Assume full occupancy | D11: ='Accommodation income ex Low Sq'!$C$11 -> 1359 | E11: ='Accommodation income ex Low Sq'!$C$11 -> 1359 | F11: ='Accommodation income ex Low Sq'!$C$11 -> 1359 | G11: ='Accommodation income ex Low Sq'!$C$11 -> 1359 | H11: ='Accommodation income ex Low Sq'!$C$11 -> 1359 | I11: ='Accommodation income ex Low Sq'!$C$11 -> 1359 | J11: ='Accommodation income ex Low Sq'!$C$11 -> 1359 | K11: ='Accommodation income ex Low Sq'!$C$11 -> 1359 | ... O11: ='Accommodation income ex Low Sq'!$C$11 -> 1359 | P11: =SUM(D11:O11) -> 16308
A12: Rental Income: Lower Square | B12: Once renovated | D12: ='Lower Square'!B25 -> 0 | E12: ='Lower Square'!C25 -> 0 | F12: ='Lower Square'!D25 -> 0 | G12: ='Lower Square'!E25 -> 0 | H12: ='Lower Square'!F25 -> 700 | I12: ='Lower Square'!G25 -> 700 | J12: ='Lower Square'!H25 -> 1000 | K12: ='Lower Square'!I25 -> 1400 | ... O12: ='Lower Square'!M25 -> 2000 | P12: =SUM(D12:O12) -> 11500
A13: Holiday Lets: | D13: 0 | E13: 0 | F13: 0 | G13: 0 | H13: 0 | I13: 0 | J13: 0 | K13: 0 | L13: 0 | M13: 0 | N13: 0 | O13: 0 | P13: =SUM(D13:O13) -> 0
A14: The Cottage | D14: ='Accommodation income ex Low Sq'!$C$16*4.33 -> 977 | E14: ='Accommodation income ex Low Sq'!$C$16*4.33 -> 977 | F14: ='Accommodation income ex Low Sq'!$C$16*4.33 -> 977 | G14: ='Accommodation income ex Low Sq'!$C$16*4.33 -> 977 | H14: ='Accommodation income ex Low Sq'!$C$16*4.33 -> 977 | I14: ='Accommodation income ex Low Sq'!$C$16*4.33 -> 977 | J14: 0 | K14: 0 | L14: 0 | M14: 0 | N14: ='Accommodation income ex Low Sq'!$C$16*4.33 -> 977 | O14: ='Accommodation income ex Low Sq'!$C$16*4.33 -> 977 | P14: =SUM(D14:O14) -> 7816
A15: Morton Boyd House | D15: ='Accommodation income ex Low Sq'!$C$17*4.33 -> 1082.5 | E15: ='Accommodation income ex Low Sq'!$C$17*4.33 -> 1082.5 | F15: ='Accommodation income ex Low Sq'!$C$17*4.33 -> 1082.5 | G15: ='Accommodation income ex Low Sq'!$C$17*4.33 -> 1082.5 | H15: ='Accommodation income ex Low Sq'!$C$17*4.33 -> 1082.5 | I15: ='Accommodation income ex Low Sq'!$C$17*4.33 -> 1082.5 | J15: 0 | K15: 0 | L15: 0 | M15: 0 | N15: ='Accommodation income ex Low Sq'!$C$17*4.33 -> 1082.5 | O15: ='Accommodation income ex Low Sq'!$C$17*4.33 -> 1082.5 | P15: =SUM(D15:O15) -> 8660
A16: Alan Stevenson House | D16: ='Accommodation income ex Low Sq'!$C$18*4.33 -> 5848 | E16: ='Accommodation income ex Low Sq'!$C$18*4.33 -> 5848 | F16: ='Accommodation income ex Low Sq'!$C$18*4.33 -> 5848 | G16: ='Accommodation income ex Low Sq'!$C$18*4.33 -> 5848 | H16: ='Accommodation income ex Low Sq'!$C$18*4.33 -> 5848 | I16: ='Accommodation income ex Low Sq'!$C$18*4.33 -> 5848 | J16: 0 | K16: 0 | L16: 0 | M16: 0 | N16: ='Accommodation income ex Low Sq'!$C$18*4.33 -> 5848 | O16: ='Accommodation income ex Low Sq'!$C$18*4.33 -> 5848 | P16: =SUM(D16:O16) -> 46784
A17: Café, Events, Hire | D17: 2000 | E17: 2000 | F17: 2000 | G17: 2000 | H17: 2000 | I17: 2000 | J17: 2000 | K17: 2000 | L17: 2000 | M17: 2000 | N17: 2000 | O17: 2000 | P17: =SUM(D17:O17) -> 24000
D18: 0 | E18: 0 | F18: 0 | G18: 0 | H18: 0 | I18: 0 | J18: 0 | K18: 0 | L18: 0 | M18: 0 | N18: 0 | O18: 0 | P18: =SUM(D18:O18) -> 0
D19: 0 | E19: 0 | F19: 0 | G19: 0 | H19: 0 | I19: 0 | J19: 0 | K19: 0 | L19: 0 | M19: 0 | N19: 0 | O19: 0 | P19: =SUM(D19:O19) -> 0
D20: =SUM(D8:D19) -> 13599.833 | E20: =SUM(E8:E19) -> 13599.833 | F20: =SUM(F8:F19) -> 13599.833 | G20: =SUM(G8:G19) -> 13599.833 | H20: =SUM(H8:H19) -> 14299.833 | I20: =SUM(I8:I19) -> 14299.833 | J20: =SUM(J8:J19) -> 6692.3333 | K20: =SUM(K8:K19) -> 7092.3333 | ... P20: =SUM(P8:P19) -> 143068
A22: DIRECT COSTS:
A23: Staff Costs: permanent staff | D23: =-'Staff costs'!$G$8/12 -> -4025 | E23: =-'Staff costs'!$G$8/12 -> -4025 | F23: =-'Staff costs'!$G$8/12 -> -4025 | G23: =-'Staff costs'!$G$8/12 -> -4025 | H23: =-'Staff costs'!$G$8/12 -> -4025 | I23: =-'Staff costs'!$G$8/12 -> -4025 | J23: =-'Staff costs'!$G$8/12 -> -4025 | K23: =-'Staff costs'!$G$8/12 -> -4025 | ... O23: =-'Staff costs'!$G$8/12 -> -4025 | P23: =SUM(D23:O23) -> -48300
A24: Staff Costs: seasonal | D24: =-'Staff costs'!$G$10/12 -> -625 | E24: =-'Staff costs'!$G$10/12 -> -625 | F24: =-'Staff costs'!$G$10/12 -> -625 | G24: =-'Staff costs'!$G$10/12 -> -625 | H24: =-'Staff costs'!$G$10/12 -> -625 | I24: =-'Staff costs'!$G$10/12 -> -625 | J24: =-'Staff costs'!$G$10/12 -> -625 | K24: =-'Staff costs'!$G$10/12 -> -625 | ... O24: =-'Staff costs'!$G$10/12 -> -625 | P24: =SUM(D24:O24) -> -7500
A25: Staff Costs: Business Development role | D25: =-28000/12 -> -2333.3333 | E25: =-28000/12 -> -2333.3333 | F25: =-28000/12 -> -2333.3333 | G25: =-28000/12 -> -2333.3333 | H25: =-28000/12 -> -2333.3333 | I25: =-28000/12 -> -2333.3333 | J25: =-28000/12 -> -2333.3333 | K25: =-28000/12 -> -2333.3333 | ... O25: =-28000/12 -> -2333.3333 | P25: =SUM(D25:O25) -> -28000
A26: Utilities and Services | B26: £1k per month estimate | D26: =-1000 -> -1000 | E26: =-1000 -> -1000 | F26: =-1000 -> -1000 | G26: =-1000 -> -1000 | H26: =-1000 -> -1000 | I26: =-1000 -> -1000 | J26: =-1000 -> -1000 | K26: =-1000 -> -1000 | ... O26: =-1000 -> -1000 | P26: =SUM(D26:O26) -> -12000
A27: Catering provisions | B27: £12k pa estimate | C27: 12000 | D27: =-$C$27/12 -> -1000 | E27: =-$C$27/12 -> -1000 | F27: =-$C$27/12 -> -1000 | G27: =-$C$27/12 -> -1000 | H27: =-$C$27/12 -> -1000 | I27: =-$C$27/12 -> -1000 | J27: =-$C$27/12 -> -1000 | K27: =-$C$27/12 -> -1000 | ... O27: =-$C$27/12 -> -1000 | P27: =SUM(D27:O27) -> -12000
A28: Council Tax | B28: Renovation relief | P28: =SUM(D28:O28) -> 0
A29: Maintenance & Repairs | B29: £250 pw estimate | C29: =250*52 -> 13000 | D29: =-$C$29/12 -> -1083.3333 | E29: =-$C$29/12 -> -1083.3333 | F29: =-$C$29/12 -> -1083.3333 | G29: =-$C$29/12 -> -1083.3333 | H29: =-$C$29/12 -> -1083.3333 | I29: =-$C$29/12 -> -1083.3333 | J29: =-$C$29/12 -> -1083.3333 | K29: =-$C$29/12 -> -1083.3333 | ... O29: =-$C$29/12 -> -1083.3333 | P29: =SUM(D29:O29) -> -13000
D30: 0 | E30: 0 | F30: 0 | G30: 0 | H30: 0 | I30: 0 | J30: 0 | K30: 0 | L30: 0 | M30: 0 | N30: 0 | O30: 0 | P30: =SUM(D30:O30) -> 0
D31: 0 | E31: 0 | F31: 0 | G31: 0 | H31: 0 | I31: 0 | J31: 0 | K31: 0 | L31: 0 | M31: 0 | N31: 0 | O31: 0 | P31: =SUM(D31:O31) -> 0
D32: =SUM(D23:D31) -> -10066.667 | E32: =SUM(E23:E31) -> -10066.667 | F32: =SUM(F23:F31) -> -10066.667 | G32: =SUM(G23:G31) -> -10066.667 | H32: =SUM(H23:H31) -> -10066.667 | I32: =SUM(I23:I31) -> -10066.667 | J32: =SUM(J23:J31) -> -10066.667 | K32: =SUM(K23:K31) -> -10066.667 | ... P32: =SUM(P23:P31) -> -120800
A34: SUPPORT COSTS:
A35: Insurance | D35: 0 | E35: 0 | F35: 0 | G35: 0 | H35: 0 | I35: -12500 | J35: 0 | K35: 0 | L35: 0 | M35: 0 | N35: 0 | O35: 0 | P35: =SUM(D35:O35) -> -12500
A36: TCDT management | C36: 5000 | D36: =-$C$36/12 -> -416.66667 | E36: =-$C$36/12 -> -416.66667 | F36: =-$C$36/12 -> -416.66667 | G36: =-$C$36/12 -> -416.66667 | H36: =-$C$36/12 -> -416.66667 | I36: =-$C$36/12 -> -416.66667 | J36: =-$C$36/12 -> -416.66667 | K36: =-$C$36/12 -> -416.66667 | ... O36: =-$C$36/12 -> -416.66667 | P36: =SUM(D36:O36) -> -5000
D37: 0 | E37: 0 | F37: 0 | G37: 0 | H37: 0 | I37: 0 | J37: 0 | K37: 0 | L37: 0 | M37: 0 | N37: 0 | O37: 0 | P37: =SUM(D37:O37) -> 0
D38: 0 | E38: 0 | F38: 0 | G38: 0 | H38: 0 | I38: 0 | J38: 0 | K38: 0 | L38: 0 | M38: 0 | N38: 0 | O38: 0 | P38: =SUM(D38:O38) -> 0
D39: =SUM(D35:D38) -> -416.66667 | E39: =SUM(E35:E38) -> -416.66667 | F39: =SUM(F35:F38) -> -416.66667 | G39: =SUM(G35:G38) -> -416.66667 | H39: =SUM(H35:H38) -> -416.66667 | I39: =SUM(I35:I38) -> -12916.667 | J39: =SUM(J35:J38) -> -416.66667 | K39: =SUM(K35:K38) -> -416.66667 | ... P39: =SUM(P35:P38) -> -17500
A41: MANAGEMENT & ADMINISTRATION:
A42: Legal and professional | B42: Estimate £100 pm | C42: =100*12 -> 1200 | D42: =-$C$42/12 -> -100 | E42: =-$C$42/12 -> -100 | F42: =-$C$42/12 -> -100 | G42: -2100 | H42: =-$C$42/12 -> -100 | I42: =-$C$42/12 -> -100 | J42: =-$C$42/12 -> -100 | K42: =-$C$42/12 -> -100 | L42: =-$C$42/12 -> -100 | M42: =-$C$42/12 -> -100 | N42: =-$C$42/12 -> -100 | O42: =-$C$42/12 -> -100 | P42: =SUM(D42:O42) -> -3200
A43: Audit and accountancy | C43: 4000 | D43: 0 | E43: 0 | F43: 0 | G43: 0 | H43: 0 | I43: 0 | J43: 0 | K43: 0 | L43: 0 | M43: 0 | N43: =-C43 -> -4000 | O43: 0 | P43: =SUM(D43:O43) -> -4000
D44: 0 | E44: 0 | F44: 0 | G44: 0 | H44: 0 | I44: 0 | J44: 0 | K44: 0 | L44: 0 | M44: 0 | N44: 0 | O44: 0 | P44: =SUM(D44:O44) -> 0
D45: =SUM(D42:D44) -> -100 | E45: =SUM(E42:E44) -> -100 | F45: =SUM(F42:F44) -> -100 | G45: =SUM(G42:G44) -> -2100 | H45: =SUM(H42:H44) -> -100 | I45: =SUM(I42:I44) -> -100 | J45: =SUM(J42:J44) -> -100 | K45: =SUM(K42:K44) -> -100 | ... P45: =SUM(P42:P44) -> -7200
...

Sheet Estimate for Year 3
A1: HYNISH CENTRE
A2: CASHFLOW | D2: Assumption: Acquistion wef 1 May 2018
A3: Year 3
D5: Month 1 | E5: Month 2 | F5: Month 3 | G5: Month 4 | H5: Month 5 | I5: Month 6 | J5: Month 7 | K5: Month 8 | L5: Month 9 | M5: Month 10 | N5: Month 11 | O5: Month 12 | P5: Total
A7: INCOME:
A8: Grants Receivable | B8: For Business Dev role | D8: 0 | E8: 0 | F8: 0 | G8: 0 | H8: 0 | I8: 0 | J8: 0 | K8: 0 | L8: 0 | M8: 0 | N8: 0 | O8: 0 | P8: =SUM(D8:O8) -> 0
A9: Donations | D9: 0 | E9: 0 | F9: 0 | G9: 0 | H9: 0 | I9: 0 | J9: 0 | K9: 0 | L9: 0 | M9: 0 | N9: 0 | O9: 0 | P9: =SUM(D9:O9) -> 0
A10: Interest receivable | D10: 0 | E10: 0 | F10: 0 | G10: 0 | H10: 0 | I10: 0 | J10: 0 | K10: 0 | L10: 0 | M10: 0 | N10: 0 | O10: 0 | P10: =SUM(D10:O10) -> 0
A11: Rental Income: Upper Square | B11: Assume full occupancy | D11: ='Accommodation income ex Low Sq'!$C$11 -> 1359 | E11: ='Accommodation income ex Low Sq'!$C$11 -> 1359 | F11: ='Accommodation income ex Low Sq'!$C$11 -> 1359 | G11: ='Accommodation income ex Low Sq'!$C$11 -> 1359 | H11: ='Accommodation income ex Low Sq'!$C$11 -> 1359 | I11: ='Accommodation income ex Low Sq'!$C$11 -> 1359 | J11: ='Accommodation income ex Low Sq'!$C$11 -> 1359 | K11: ='Accommodation income ex Low Sq'!$C$11 -> 1359 | ... O11: ='Accommodation income ex Low Sq'!$C$11 -> 1359 | P11: =SUM(D11:O11) -> 16308
A12: Rental Income: Lower Square | B12: Once renovated | D12: ='Lower Square'!B37 -> 2000 | E12: ='Lower Square'!C37 -> 2000 | F12: ='Lower Square'!D37 -> 2000 | G12: ='Lower Square'!E37 -> 2000 | H12: ='Lower Square'!F37 -> 2000 | I12: ='Lower Square'!G37 -> 2000 | J12: ='Lower Square'!H37 -> 2000 | K12: ='Lower Square'!I37 -> 2000 | ... O12: ='Lower Square'!M37 -> 2000 | P12: =SUM(D12:O12) -> 24000
A13: Holiday Lets: | D13: 0 | E13: 0 | F13: 0 | G13: 0 | H13: 0 | I13: 0 | J13: 0 | K13: 0 | L13: 0 | M13: 0 | N13: 0 | O13: 0 | P13: =SUM(D13:O13) -> 0
A14: The Cottage | D14: ='Accommodation income ex Low Sq'!$C$16*4.33 -> 977 | E14: ='Accommodation income ex Low Sq'!$C$16*4.33 -> 977 | F14: ='Accommodation income ex Low Sq'!$C$16*4.33 -> 977 | G14: ='Accommodation income ex Low Sq'!$C$16*4.33 -> 977 | H14: ='Accommodation income ex Low Sq'!$C$16*4.33 -> 977 | I14: ='Accommodation income ex Low Sq'!$C$16*4.33 -> 977 | J14: 0 | K14: 0 | L14: 0 | M14: 0 | N14: ='Accommodation income ex Low Sq'!$C$16*4.33 -> 977 | O14: ='Accommodation income ex Low Sq'!$C$16*4.33 -> 977 | P14: =SUM(D14:O14) -> 7816
A15: Morton Boyd House | D15: ='Accommodation income ex Low Sq'!$C$17*4.33 -> 1082.5 | E15: ='Accommodation income ex Low Sq'!$C$17*4.33 -> 1082.5 | F15: ='Accommodation income ex Low Sq'!$C$17*4.33 -> 1082.5 | G15: ='Accommodation income ex Low Sq'!$C$17*4.33 -> 1082.5 | H15: ='Accommodation income ex Low Sq'!$C$17*4.33 -> 1082.5 | I15: ='Accommodation income ex Low Sq'!$C$17*4.33 -> 1082.5 | J15: 0 | K15: 0 | L15: 0 | M15: 0 | N15: ='Accommodation income ex Low Sq'!$C$17*4.33 -> 1082.5 | O15: ='Accommodation income ex Low Sq'!$C$17*4.33 -> 1082.5 | P15: =SUM(D15:O15) -> 8660
A16: Alan Stevenson House | D16: ='Accommodation income ex Low Sq'!$C$18*4.33 -> 5848 | E16: ='Accommodation income ex Low Sq'!$C$18*4.33 -> 5848 | F16: ='Accommodation income ex Low Sq'!$C$18*4.33 -> 5848 | G16: ='Accommodation income ex Low Sq'!$C$18*4.33 -> 5848 | H16: ='Accommodation income ex Low Sq'!$C$18*4.33 -> 5848 | I16: ='Accommodation income ex Low Sq'!$C$18*4.33 -> 5848 | J16: 0 | K16: 0 | L16: 0 | M16: 0 | N16: ='Accommodation income ex Low Sq'!$C$18*4.33 -> 5848 | O16: ='Accommodation income ex Low Sq'!$C$18*4.33 -> 5848 | P16: =SUM(D16:O16) -> 46784
A17: Café, Events, Hire | D17: 2000 | E17: 2000 | F17: 2000 | G17: 2000 | H17: 2000 | I17: 2000 | J17: 2000 | K17: 2000 | L17: 2000 | M17: 2000 | N17: 2000 | O17: 2000 | P17: =SUM(D17:O17) -> 24000
D18: 0 | E18: 0 | F18: 0 | G18: 0 | H18: 0 | I18: 0 | J18: 0 | K18: 0 | L18: 0 | M18: 0 | N18: 0 | O18: 0 | P18: =SUM(D18:O18) -> 0
D19: 0 | E19: 0 | F19: 0 | G19: 0 | H19: 0 | I19: 0 | J19: 0 | K19: 0 | L19: 0 | M19: 0 | N19: 0 | O19: 0 | P19: =SUM(D19:O19) -> 0
D20: =SUM(D8:D19) -> 13266.5 | E20: =SUM(E8:E19) -> 13266.5 | F20: =SUM(F8:F19) -> 13266.5 | G20: =SUM(G8:G19) -> 13266.5 | H20: =SUM(H8:H19) -> 13266.5 | I20: =SUM(I8:I19) -> 13266.5 | J20: =SUM(J8:J19) -> 5359 | K20: =SUM(K8:K19) -> 5359 | ... P20: =SUM(P8:P19) -> 127568
A22: DIRECT COSTS:
A23: Staff Costs: permanent staff | D23: =-'Staff costs'!$G$8/12 -> -4025 | E23: =-'Staff costs'!$G$8/12 -> -4025 | F23: =-'Staff costs'!$G$8/12 -> -4025 | G23: =-'Staff costs'!$G$8/12 -> -4025 | H23: =-'Staff costs'!$G$8/12 -> -4025 | I23: =-'Staff costs'!$G$8/12 -> -4025 | J23: =-'Staff costs'!$G$8/12 -> -4025 | K23: =-'Staff costs'!$G$8/12 -> -4025 | ... O23: =-'Staff costs'!$G$8/12 -> -4025 | P23: =SUM(D23:O23) -> -48300
A24: Staff Costs: seasonal | D24: =-'Staff costs'!$G$10/12 -> -625 | E24: =-'Staff costs'!$G$10/12 -> -625 | F24: =-'Staff costs'!$G$10/12 -> -625 | G24: =-'Staff costs'!$G$10/12 -> -625 | H24: =-'Staff costs'!$G$10/12 -> -625 | I24: =-'Staff costs'!$G$10/12 -> -625 | J24: =-'Staff costs'!$G$10/12 -> -625 | K24: =-'Staff costs'!$G$10/12 -> -625 | ... O24: =-'Staff costs'!$G$10/12 -> -625 | P24: =SUM(D24:O24) -> -7500
A25: Staff Costs: Business Development role | B25: End of contract | D25: 0 | E25: 0 | F25: 0 | G25: 0 | H25: 0 | I25: 0 | J25: 0 | K25: 0 | L25: 0 | M25: 0 | N25: 0 | O25: 0 | P25: =SUM(D25:O25) -> 0
A26: Utilities and Services | B26: £1k per month estimate | D26: =-1000 -> -1000 | E26: =-1000 -> -1000 | F26: =-1000 -> -1000 | G26: =-1000 -> -1000 | H26: =-1000 -> -1000 | I26: =-1000 -> -1000 | J26: =-1000 -> -1000 | K26: =-1000 -> -1000 | ... O26: =-1000 -> -1000 | P26: =SUM(D26:O26) -> -12000
A27: Catering provisions | B27: £12k pa estimate | C27: 12000 | D27: =-$C$27/12 -> -1000 | E27: =-$C$27/12 -> -1000 | F27: =-$C$27/12 -> -1000 | G27: =-$C$27/12 -> -1000 | H27: =-$C$27/12 -> -1000 | I27: =-$C$27/12 -> -1000 | J27: =-$C$27/12 -> -1000 | K27: =-$C$27/12 -> -1000 | ... O27: =-$C$27/12 -> -1000 | P27: =SUM(D27:O27) -> -12000
A28: Council Tax | B28: Tenants responsibility | P28: =SUM(D28:O28) -> 0
A29: Maintenance & Repairs | B29: £250 pw estimate | C29: =250*52 -> 13000 | D29: =-$C$29/12 -> -1083.3333 | E29: =-$C$29/12 -> -1083.3333 | F29: =-$C$29/12 -> -1083.3333 | G29: =-$C$29/12 -> -1083.3333 | H29: =-$C$29/12 -> -1083.3333 | I29: =-$C$29/12 -> -1083.3333 | J29: =-$C$29/12 -> -1083.3333 | K29: =-$C$29/12 -> -1083.3333 | ... O29: =-$C$29/12 -> -1083.3333 | P29: =SUM(D29:O29) -> -13000
D30: 0 | E30: 0 | F30: 0 | G30: 0 | H30: 0 | I30: 0 | J30: 0 | K30: 0 | L30: 0 | M30: 0 | N30: 0 | O30: 0 | P30: =SUM(D30:O30) -> 0
D31: 0 | E31: 0 | F31: 0 | G31: 0 | H31: 0 | I31: 0 | J31: 0 | K31: 0 | L31: 0 | M31: 0 | N31: 0 | O31: 0 | P31: =SUM(D31:O31) -> 0
D32: =SUM(D23:D31) -> -7733.3333 | E32: =SUM(E23:E31) -> -7733.3333 | F32: =SUM(F23:F31) -> -7733.3333 | G32: =SUM(G23:G31) -> -7733.3333 | H32: =SUM(H23:H31) -> -7733.3333 | I32: =SUM(I23:I31) -> -7733.3333 | J32: =SUM(J23:J31) -> -7733.3333 | K32: =SUM(K23:K31) -> -7733.3333 | ... P32: =SUM(P23:P31) -> -92800
A34: SUPPORT COSTS:
A35: Insurance | D35: 0 | E35: 0 | F35: 0 | G35: 0 | H35: 0 | I35: -12500 | J35: 0 | K35: 0 | L35: 0 | M35: 0 | N35: 0 | O35: 0 | P35: =SUM(D35:O35) -> -12500
A36: TCDT management | C36: 10000 | D36: =-$C$36/12 -> -833.33333 | E36: =-$C$36/12 -> -833.33333 | F36: =-$C$36/12 -> -833.33333 | G36: =-$C$36/12 -> -833.33333 | H36: =-$C$36/12 -> -833.33333 | I36: =-$C$36/12 -> -833.33333 | J36: =-$C$36/12 -> -833.33333 | K36: =-$C$36/12 -> -833.33333 | ... O36: =-$C$36/12 -> -833.33333 | P36: =SUM(D36:O36) -> -10000
D37: 0 | E37: 0 | F37: 0 | G37: 0 | H37: 0 | I37: 0 | J37: 0 | K37: 0 | L37: 0 | M37: 0 | N37: 0 | O37: 0 | P37: =SUM(D37:O37) -> 0
D38: 0 | E38: 0 | F38: 0 | G38: 0 | H38: 0 | I38: 0 | J38: 0 | K38: 0 | L38: 0 | M38: 0 | N38: 0 | O38: 0 | P38: =SUM(D38:O38) -> 0
D39: =SUM(D35:D38) -> -833.33333 | E39: =SUM(E35:E38) -> -833.33333 | F39: =SUM(F35:F38) -> -833.33333 | G39: =SUM(G35:G38) -> -833.33333 | H39: =SUM(H35:H38) -> -833.33333 | I39: =SUM(I35:I38) -> -13333.333 | J39: =SUM(J35:J38) -> -833.33333 | K39: =SUM(K35:K38) -> -833.33333 | ... P39: =SUM(P35:P38) -> -22500
A41: MANAGEMENT & ADMINISTRATION:
A42: Legal and professional | B42: Estimate £100 pm | C42: =100*12 -> 1200 | D42: =-$C$42/12 -> -100 | E42: =-$C$42/12 -> -100 | F42: =-$C$42/12 -> -100 | G42: -100 | H42: =-$C$42/12 -> -100 | I42: =-$C$42/12 -> -100 | J42: =-$C$42/12 -> -100 | K42: =-$C$42/12 -> -100 | L42: =-$C$42/12 -> -100 | M42: =-$C$42/12 -> -100 | N42: =-$C$42/12 -> -100 | O42: =-$C$42/12 -> -100 | P42: =SUM(D42:O42) -> -1200
A43: Audit and accountancy | C43: 4000 | D43: 0 | E43: 0 | F43: 0 | G43: 0 | H43: 0 | I43: 0 | J43: 0 | K43: 0 | L43: 0 | M43: 0 | N43: =-C43 -> -4000 | O43: 0 | P43: =SUM(D43:O43) -> -4000
D44: 0 | E44: 0 | F44: 0 | G44: 0 | H44: 0 | I44: 0 | J44: 0 | K44: 0 | L44: 0 | M44: 0 | N44: 0 | O44: 0 | P44: =SUM(D44:O44) -> 0
D45: =SUM(D42:D44) -> -100 | E45: =SUM(E42:E44) -> -100 | F45: =SUM(F42:F44) -> -100 | G45: =SUM(G42:G44) -> -100 | H45: =SUM(H42:H44) -> -100 | I45: =SUM(I42:I44) -> -100 | J45: =SUM(J42:J44) -> -100 | K45: =SUM(K42:K44) -> -100 | ... P45: =SUM(P42:P44) -> -5200
...

Sheet Accommodation income ex Low Sq
A1: HYNISH CENTRE
A2: CASHFLOW
A4: Short term Assured Tenancies:
A6: Upper Square | C6: Per month | D6: Months let | E6: Per Year
A7: Unit 1 | C7: =1359/4 -> 339.75 | D7: 12 | E7: =+D7*C7 -> 4077
A8: Unit 2 | C8: =1359/4 -> 339.75 | D8: 12 | E8: =+D8*C8 -> 4077
A9: Unit 3 | C9: =1359/4 -> 339.75 | D9: 12 | E9: =+D9*C9 -> 4077
A10: Unit 4 | C10: =1359/4 -> 339.75 | D10: 12 | E10: =+D10*C10 -> 4077
C11: =SUM(C7:C10) -> 1359 | E11: =SUM(E7:E10) -> 16308
A14: Holiday Lets:
C15: Per Week | D15: Weeks let | E15: Per Year
A16: The Cottage | C16: =977/4.33 -> 225.6351 | D16: 34 | E16: =+D16*C16 -> 7671.5935
A17: Morton Boyd House | C17: =250 -> 250 | D17: 34 | E17: =+D17*C17 -> 8500
A18: Alan Stevenson House | C18: =5848/4.33 -> 1350.5774 | D18: 34 | E18: =+D18*C18 -> 45919.63

Sheet Lower Square
A1: HYNISH CENTRE | F1: Assume Lower Square renovated and ready by 1 September 2019
A2: CASHFLOW | F2: Occupancy comes on stream gradually during year 2
A3: Short term Assured Tenancies
A4: Lower Square
B6: Per month | C6: Months let | D6: Per Year
A7: Unit 1 | B7: 400 | C7: 12 | D7: =+C7*B7 -> 4800
A8: Unit 2 | B8: 300 | C8: 12 | D8: =+C8*B8 -> 3600
A9: Unit 3 | B9: 300 | C9: 12 | D9: =+C9*B9 -> 3600
A10: Unit 4 | B10: 400 | C10: 12 | D10: =+C10*B10 -> 4800
A11: Unit 5 | B11: 300 | C11: 12 | D11: =+C11*B11 -> 3600
A12: Unit 6 | B12: 300 | C12: 12 | D12: =+C12*B12 -> 3600
B13: =SUM(B7:B12) -> 2000 | D13: =SUM(D7:D12) -> 24000
B15: YEAR 2
B16: Month 1 | C16: Month 2 | D16: Month 3 | E16: Month 4 | F16: Month 5 | G16: Month 6 | H16: Month 7 | I16: Month 8 | J16: Month 9 | K16: Month 10 | L16: Month 11 | M16: Month 12 | N16: Total
A18: Unit 1 | B18: =0 -> 0 | C18: 0 | D18: 0 | E18: 0 | F18: =$B$7 -> 400 | G18: =$B$7 -> 400 | H18: =$B$7 -> 400 | I18: =$B$7 -> 400 | J18: =$B$7 -> 400 | K18: =$B$7 -> 400 | L18: =$B$7 -> 400 | M18: =$B$7 -> 400 | N18: =SUM(B18:M18) -> 3200
A19: Unit 2 | B19: =0 -> 0 | C19: 0 | D19: 0 | E19: 0 | F19: =$B$8 -> 300 | G19: =$B$8 -> 300 | H19: =$B$8 -> 300 | I19: =$B$8 -> 300 | J19: =$B$8 -> 300 | K19: =$B$8 -> 300 | L19: =$B$8 -> 300 | M19: =$B$8 -> 300 | N19: =SUM(B19:M19) -> 2400
A20: Unit 3 | B20: =0 -> 0 | C20: 0 | D20: 0 | E20: 0 | F20: 0 | G20: 0 | H20: =$B$9 -> 300 | I20: =$B$9 -> 300 | J20: =$B$9 -> 300 | K20: =$B$9 -> 300 | L20: =$B$9 -> 300 | M20: =$B$9 -> 300 | N20: =SUM(B20:M20) -> 1800
A21: Unit 4 | B21: =0 -> 0 | C21: 0 | D21: 0 | E21: 0 | F21: 0 | G21: 0 | H21: 0 | I21: =$B$10 -> 400 | J21: =$B$10 -> 400 | K21: =$B$10 -> 400 | L21: =$B$10 -> 400 | M21: =$B$10 -> 400 | N21: =SUM(B21:M21) -> 2000
A22: Unit 5 | B22: =0 -> 0 | C22: 0 | D22: 0 | E22: 0 | F22: 0 | G22: 0 | H22: 0 | I22: 0 | J22: =$B$11 -> 300 | K22: =$B$11 -> 300 | L22: =$B$11 -> 300 | M22: =$B$11 -> 300 | N22: =SUM(B22:M22) -> 1200
A23: Unit 6 | B23: =0 -> 0 | C23: 0 | D23: 0 | E23: 0 | F23: 0 | G23: 0 | H23: 0 | I23: 0 | J23: 0 | K23: =$B$12 -> 300 | L23: =$B$12 -> 300 | M23: =$B$12 -> 300 | N23: =SUM(B23:M23) -> 900
B25: =SUM(B18:B24) -> 0 | C25: =SUM(C18:C24) -> 0 | D25: =SUM(D18:D24) -> 0 | E25: =SUM(E18:E24) -> 0 | F25: =SUM(F18:F24) -> 700 | G25: =SUM(G18:G24) -> 700 | H25: =SUM(H18:H24) -> 1000 | I25: =SUM(I18:I24) -> 1400 | ... N25: =SUM(N18:N24) -> 11500
B27: YEAR 3
B28: Month 1 | C28: Month 2 | D28: Month 3 | E28: Month 4 | F28: Month 5 | G28: Month 6 | H28: Month 7 | I28: Month 8 | J28: Month 9 | K28: Month 10 | L28: Month 11 | M28: Month 12 | N28: Total
A30: Unit 1 | B30: =$B$7 -> 400 | C30: =$B$7 -> 400 | D30: =$B$7 -> 400 | E30: =$B$7 -> 400 | F30: =$B$7 -> 400 | G30: =$B$7 -> 400 | H30: =$B$7 -> 400 | I30: =$B$7 -> 400 | ... M30: =$B$7 -> 400 | N30: =SUM(B30:M30) -> 4800
A31: Unit 2 | B31: =$B$8 -> 300 | C31: =$B$8 -> 300 | D31: =$B$8 -> 300 | E31: =$B$8 -> 300 | F31: =$B$8 -> 300 | G31: =$B$8 -> 300 | H31: =$B$8 -> 300 | I31: =$B$8 -> 300 | ... M31: =$B$8 -> 300 | N31: =SUM(B31:M31) -> 3600
A32: Unit 3 | B32: =$B$9 -> 300 | C32: =$B$9 -> 300 | D32: =$B$9 -> 300 | E32: =$B$9 -> 300 | F32: =$B$9 -> 300 | G32: =$B$9 -> 300 | H32: =$B$9 -> 300 | I32: =$B$9 -> 300 | ... M32: =$B$9 -> 300 | N32: =SUM(B32:M32) -> 3600
A33: Unit 4 | B33: =$B$10 -> 400 | C33: =$B$10 -> 400 | D33: =$B$10 -> 400 | E33: =$B$10 -> 400 | F33: =$B$10 -> 400 | G33: =$B$10 -> 400 | H33: =$B$10 -> 400 | I33: =$B$10 -> 400 | ... M33: =$B$10 -> 400 | N33: =SUM(B33:M33) -> 4800
A34: Unit 5 | B34: =$B$11 -> 300 | C34: =$B$11 -> 300 | D34: =$B$11 -> 300 | E34: =$B$11 -> 300 | F34: =$B$11 -> 300 | G34: =$B$11 -> 300 | H34: =$B$11 -> 300 | I34: =$B$11 -> 300 | ... M34: =$B$11 -> 300 | N34: =SUM(B34:M34) -> 3600
A35: Unit 6 | B35: =$B$12 -> 300 | C35: =$B$12 -> 300 | D35: =$B$12 -> 300 | E35: =$B$12 -> 300 | F35: =$B$12 -> 300 | G35: =$B$12 -> 300 | H35: =$B$12 -> 300 | I35: =$B$12 -> 300 | ... M35: =$B$12 -> 300 | N35: =SUM(B35:M35) -> 3600
B37: =SUM(B30:B36) -> 2000 | C37: =SUM(C30:C36) -> 2000 | D37: =SUM(D30:D36) -> 2000 | E37: =SUM(E30:E36) -> 2000 | F37: =SUM(F30:F36) -> 2000 | G37: =SUM(G30:G36) -> 2000 | H37: =SUM(H30:H36) -> 2000 | I37: =SUM(I30:I36) -> 2000 | ... N37: =SUM(N30:N36) -> 24000

Sheet Staff costs
A4: STAFF COSTS
D5: Salary | E5: E/er NI | F5: E/er Pension | G5: TOTAL
A6: Manager | D6: 24000 | E6: =+D6*0.12 -> 2880 | F6: =+D6*0.03 -> 720 | G6: =SUM(D6:F6) -> 27600
A7: Assistant Manager | D7: 18000 | E7: =+D7*0.12 -> 2160 | F7: =+D7*0.03 -> 540 | G7: =SUM(D7:F7) -> 20700
D8: =SUM(D6:D7) -> 42000 | E8: =SUM(E6:E7) -> 5040 | F8: =SUM(F6:F7) -> 1260 | G8: =SUM(G6:G7) -> 48300
A10: Seasonal staff | D10: =+C18 -> 7500 | E10: Below thold | F10: Below thold | G10: =SUM(D10:F10) -> 7500
D11: =SUM(D8:D10) -> 49500 | E11: =SUM(E8:E10) -> 5040 | F11: =SUM(F8:F10) -> 1260 | G11: =SUM(G8:G10) -> 55800
A13: Seasonal staff | B13: Number | C13: 5
B14: Hours pw | C14: 10
B15: Weeks | C15: 15
B16: Hours pa | C16: =+C13*(C14*C15) -> 750
B17: Hourly rate | C17: 10
B18: Cost pa | C18: =+C16*C17 -> 7500

Sheet Summary of previous years
A1: HYNISH CENTRE
A2: CASHFLOW
A4: Summarry of previous years | E4: Years to 31 March
D6: 2015 | E6: 2016 | F6: 2017
A8: INCOME
A9: Grants Receivable | D9: 25300 | E9: 24350
A10: Donations | D10: 35018 | E10: 29957
A11: Interest receivable | E11: 17
A12: Rental Income
A13: Accommodation Budget
A14: Accommodation Confirmed | D14: 76612 | E14: 80095
A15: Café, Events, Hire
A16: Friends
A17: Insurance Claim
A18: Other Income
D19: =SUM(D9:D18) -> 136930 | E19: =SUM(E9:E18) -> 134419 | F19: =SUM(F9:F18) -> 0
A21: CHARITABLE ACTIVITIES
A22: Hynish | B22: Staff Costs
B23: Running Costs
B24: Repairs and maintenance
A25: Upper Square/Signal Tower
A26: Barracks
A27: Lower Square
A28: Unallocated totals | D28: 88424 | E28: 83621
D29: =SUM(D22:D28) -> 88424 | E29: =SUM(E22:E28) -> 83621 | F29: =SUM(F22:F28) -> 0
A31: SUPPORT COSTS
A32: Insurance | D32: 7421 | E32: 9370
A33: Salaries and National Insurance | D33: 10132 | E33: 12266
A34: Office Costs | D34: 1844 | E34: 2504
A35: Travelling Expenses | D35: 1127 | E35: 2235
D36: =SUM(D32:D35) -> 20524 | E36: =SUM(E32:E35) -> 26375 | F36: =SUM(F32:F35) -> 0
A38: MANAGEMENT AND ADMINISTRATION
A39: Legal and professional | D39: 1950 | E39: 1033
A40: Audit and accountancy | D40: 4129 | E40: 4164
A41: Bank charges | D41: 863 | E41: 689
A42: Depreciation | D42: 6113 | E42: 4795
D43: =SUM(D39:D42) -> 13055 | E43: =SUM(E39:E42) -> 10681 | F43: =SUM(F39:F41) -> 0
A45: Total Expenditure | D45: =+D43+D36+D29 -> 122003 | E45: =+E43+E36+E29 -> 120677 | F45: =+F43+F36+F29 -> 0
A47: Surplus/(deficit) YTD | D47: =+D19-D45 -> 14927 | E47: =+E19-E45 -> 13742 | F47: =+F19-F45 -> 0
